BEGIN:VCALENDAR
VERSION:2.0
PRODID:-//www.gruppidilettura.it - ECPv6.15.20//NONSGML v1.0//EN
CALSCALE:GREGORIAN
METHOD:PUBLISH
X-WR-CALNAME:www.gruppidilettura.it
X-ORIGINAL-URL:https://www.gruppidilettura.it
X-WR-CALDESC:Eventi per www.gruppidilettura.it
REFRESH-INTERVAL;VALUE=DURATION:PT1H
X-Robots-Tag:noindex
X-PUBLISHED-TTL:PT1H
BEGIN:VTIMEZONE
TZID:Europe/Rome
BEGIN:DAYLIGHT
TZOFFSETFROM:+0100
TZOFFSETTO:+0200
TZNAME:CEST
DTSTART:20220327T010000
END:DAYLIGHT
BEGIN:STANDARD
TZOFFSETFROM:+0200
TZOFFSETTO:+0100
TZNAME:CET
DTSTART:20221030T010000
END:STANDARD
BEGIN:DAYLIGHT
TZOFFSETFROM:+0100
TZOFFSETTO:+0200
TZNAME:CEST
DTSTART:20230326T010000
END:DAYLIGHT
BEGIN:STANDARD
TZOFFSETFROM:+0200
TZOFFSETTO:+0100
TZNAME:CET
DTSTART:20231029T010000
END:STANDARD
BEGIN:DAYLIGHT
TZOFFSETFROM:+0100
TZOFFSETTO:+0200
TZNAME:CEST
DTSTART:20240331T010000
END:DAYLIGHT
BEGIN:STANDARD
TZOFFSETFROM:+0200
TZOFFSETTO:+0100
TZNAME:CET
DTSTART:20241027T010000
END:STANDARD
END:VTIMEZONE
BEGIN:VEVENT
DTSTART;TZID=Europe/Rome:20231105T103000
DTEND;TZID=Europe/Rome:20231105T130000
DTSTAMP:20260420T031759
CREATED:20231005T160745Z
LAST-MODIFIED:20231006T081607Z
UID:1827-1699180200-1699189200@www.gruppidilettura.it
SUMMARY:Raduno dei Gruppi di Lettura
DESCRIPTION:In questo annuale incontro dedicato ai gruppi di lettura bresciani\, bergamaschi\, cremonesi\, ma non solo\, tutti i partecipanti potranno discutere attivamente delle strade che hanno scoperto grazie alla lettura\, nonché di quelle che ancora potrebbero rivelarsi davanti a loro.
URL:https://www.gruppidilettura.it/event/raduno-dei-gruppi-di-lettura/
LOCATION:SALONE MARCHETTIANO\, Via Ospedale Vecchio 10\, Chiari (BS)
CATEGORIES:Raduno
ATTACH;FMTTYPE=image/jpeg:https://www.gruppidilettura.it/wp-content/uploads/2023/10/logo-microeditoria-cropp.jpg
END:VEVENT
END:VCALENDAR