BEGIN:VCALENDAR
VERSION:2.0
PRODID:-//www.gruppidilettura.it - ECPv6.15.20//NONSGML v1.0//EN
CALSCALE:GREGORIAN
METHOD:PUBLISH
X-WR-CALNAME:www.gruppidilettura.it
X-ORIGINAL-URL:https://www.gruppidilettura.it
X-WR-CALDESC:Eventi per www.gruppidilettura.it
REFRESH-INTERVAL;VALUE=DURATION:PT1H
X-Robots-Tag:noindex
X-PUBLISHED-TTL:PT1H
BEGIN:VTIMEZONE
TZID:Europe/Rome
BEGIN:DAYLIGHT
TZOFFSETFROM:+0100
TZOFFSETTO:+0200
TZNAME:CEST
DTSTART:20250330T010000
END:DAYLIGHT
BEGIN:STANDARD
TZOFFSETFROM:+0200
TZOFFSETTO:+0100
TZNAME:CET
DTSTART:20251026T010000
END:STANDARD
BEGIN:DAYLIGHT
TZOFFSETFROM:+0100
TZOFFSETTO:+0200
TZNAME:CEST
DTSTART:20260329T010000
END:DAYLIGHT
BEGIN:STANDARD
TZOFFSETFROM:+0200
TZOFFSETTO:+0100
TZNAME:CET
DTSTART:20261025T010000
END:STANDARD
BEGIN:DAYLIGHT
TZOFFSETFROM:+0100
TZOFFSETTO:+0200
TZNAME:CEST
DTSTART:20270328T010000
END:DAYLIGHT
BEGIN:STANDARD
TZOFFSETFROM:+0200
TZOFFSETTO:+0100
TZNAME:CET
DTSTART:20271031T010000
END:STANDARD
END:VTIMEZONE
BEGIN:VEVENT
DTSTART;TZID=Europe/Rome:20260507T080000
DTEND;TZID=Europe/Rome:20260509T183000
DTSTAMP:20260419T200305
CREATED:20260413T104246Z
LAST-MODIFIED:20260413T104741Z
UID:4889-1778140800-1778351400@www.gruppidilettura.it
SUMMARY:CaorlèFumetto 2026
DESCRIPTION:Il mare\, il centro storico di Caorle e… tantissimi fumetti!Dal 7 al 9 maggio torna CaorlÈ Fumetto\, per un’edizione spumeggiante\, ricca di eventi per tutte le età.Tre giorni di fantasia\, creatività e condivisione con: Mostre e talk Laboratori creativi per bambini e workshop di manga Ospiti speciali e incontri con autori Disney… e altre sorprese in programma!Scopri di più: https://onlycomics.it/eventi/caorle-fumetto-2026/Segnate le date\, spargete la voce e iniziate il conto alla rovescia con noi.Ci vediamo a Caorle: sarete dei nostri? \nBIBLIOTECA CIVICA DI CAORLE \nPiazza Matteotti 3 – 30021 CAORLE (0421/219255) \nseguici sui nostri social: https://www.facebook.com/BibliotecaCaorle/ e https://www.instagram.com/biblioteca_caorle/ \n\n← Precedente Grazie per la risposta. ✨\n\n\n					\n						\n							\n							\n						\n						\n						\n						\n						\n							\n								\n									\n										\n										\n									\n									\n										\n										\n									\n								\n							\n						\n						\n							\n								\n									\n									\n										\n									\n									\n									\n								\n							\n						\n					\n				\n\n\n\nNome(obbligatorio)\n\n \n			\n				\n					\n						\n						\n						\n					\n				\n				\n			 \n	\n\n\nEmail(obbligatorio)\n\n \n			\n				\n					\n						\n						\n						\n					\n				\n				\n			 \n	\n\n\nSito web\n\n \n			\n				\n					\n						\n						\n						\n					\n				\n				\n			 \n	\n\n\nMessaggio\n\n \n			\n				\n					\n						\n						\n						\n					\n				\n				\n			\n	\n	\n\n				\n					\n				\n						Invia
URL:https://www.gruppidilettura.it/event/caorlefumetto-2026/
CATEGORIES:Festival
ORGANIZER;CN="Biblioteca Civica di Caorle":MAILTO:biblioteca@comune.caorle.ve.it
END:VEVENT
END:VCALENDAR