BEGIN:VCALENDAR
VERSION:2.0
PRODID:-//www.gruppidilettura.it - ECPv6.15.20//NONSGML v1.0//EN
CALSCALE:GREGORIAN
METHOD:PUBLISH
X-WR-CALNAME:www.gruppidilettura.it
X-ORIGINAL-URL:https://www.gruppidilettura.it
X-WR-CALDESC:Eventi per www.gruppidilettura.it
REFRESH-INTERVAL;VALUE=DURATION:PT1H
X-Robots-Tag:noindex
X-PUBLISHED-TTL:PT1H
BEGIN:VTIMEZONE
TZID:Europe/Rome
BEGIN:DAYLIGHT
TZOFFSETFROM:+0100
TZOFFSETTO:+0200
TZNAME:CEST
DTSTART:20220327T010000
END:DAYLIGHT
BEGIN:STANDARD
TZOFFSETFROM:+0200
TZOFFSETTO:+0100
TZNAME:CET
DTSTART:20221030T010000
END:STANDARD
BEGIN:DAYLIGHT
TZOFFSETFROM:+0100
TZOFFSETTO:+0200
TZNAME:CEST
DTSTART:20230326T010000
END:DAYLIGHT
BEGIN:STANDARD
TZOFFSETFROM:+0200
TZOFFSETTO:+0100
TZNAME:CET
DTSTART:20231029T010000
END:STANDARD
BEGIN:DAYLIGHT
TZOFFSETFROM:+0100
TZOFFSETTO:+0200
TZNAME:CEST
DTSTART:20240331T010000
END:DAYLIGHT
BEGIN:STANDARD
TZOFFSETFROM:+0200
TZOFFSETTO:+0100
TZNAME:CET
DTSTART:20241027T010000
END:STANDARD
BEGIN:DAYLIGHT
TZOFFSETFROM:+0100
TZOFFSETTO:+0200
TZNAME:CEST
DTSTART:20250330T010000
END:DAYLIGHT
BEGIN:STANDARD
TZOFFSETFROM:+0200
TZOFFSETTO:+0100
TZNAME:CET
DTSTART:20251026T010000
END:STANDARD
END:VTIMEZONE
BEGIN:VEVENT
DTSTART;TZID=Europe/Rome:20240706T210000
DTEND;TZID=Europe/Rome:20240826T210000
DTSTAMP:20260420T041719
CREATED:20240719T083009Z
LAST-MODIFIED:20240719T083030Z
UID:2603-1720299600-1724706000@www.gruppidilettura.it
SUMMARY:XIII Festival Culturale Liberevento
DESCRIPTION:Dal 6 luglio al 26 agosto più di trenta eventi per stimolare e omaggiare la lettura e la cultura\, tra spettacoli musicali\, enogastronomia e tanto altro… \nL’edizione 2024 è dedicata al tema Confini e a tutte le sue sfaccettature\, in dieci comuni del Sulcis-Iglesiente\, saranno ospiti grandi nomi del panorama giornalistico e letterario italiano tra cui: Umberto Galimberti\, Sigfrido Ranucci\, Patrick Zaki\, Massimo Polidoro\, Serena Bortone\, Stefania Andreoli\, Michele Mezzanotte e tanti altri. \n 
URL:https://www.gruppidilettura.it/event/xiii-festival-culturale-liberevento/
CATEGORIES:Festival,Rassegna letteraria
ATTACH;FMTTYPE=image/png:https://www.gruppidilettura.it/wp-content/uploads/2024/07/Schermata-2024-07-19-alle-10.27.22.png
END:VEVENT
BEGIN:VEVENT
DTSTART;VALUE=DATE:20240614
DTEND;VALUE=DATE:20240617
DTSTAMP:20260420T041719
CREATED:20240508T135855Z
LAST-MODIFIED:20240508T135855Z
UID:2496-1718323200-1718582399@www.gruppidilettura.it
SUMMARY:Napoli Città Libro 2024
DESCRIPTION:Case editrici nazionali\, 136 sigle editoriali e decine di autori si ritroveranno a Napoli per la quinta edizione di ‘Napoli Città Libro’ – Salone del libro e dell’editoria che si svolgerà dal 14 al 16 giugno alla Stazione marittima.
URL:https://www.gruppidilettura.it/event/napoli-citta-libro-2024/
LOCATION:Napoli
ATTACH;FMTTYPE=image/jpeg:https://www.gruppidilettura.it/wp-content/uploads/2024/05/napolicittalibro2024.jpg
END:VEVENT
BEGIN:VEVENT
DTSTART;VALUE=DATE:20240606
DTEND;VALUE=DATE:20240610
DTSTAMP:20260420T041719
CREATED:20240516T163723Z
LAST-MODIFIED:20240516T163723Z
UID:2514-1717632000-1717977599@www.gruppidilettura.it
SUMMARY:Una marina di libri 2024
DESCRIPTION:L’edizione 2024 di Una marina di libri si svolge a Palermo da giovedì 6 a domenica 9 giugno\, in Parco Villa Filippina. Il tema sul quale saranno chiamati a dialogare e a confrontarsi scrittori\, scrittrici\, editori e artisti è: “Oltre i confini”.
URL:https://www.gruppidilettura.it/event/una-marina-di-libri-2024/
LOCATION:Palermo
ATTACH;FMTTYPE=image/png:https://www.gruppidilettura.it/wp-content/uploads/2024/05/Screenshot-19.png
END:VEVENT
BEGIN:VEVENT
DTSTART;VALUE=DATE:20240530
DTEND;VALUE=DATE:20240603
DTSTAMP:20260420T041719
CREATED:20240508T135512Z
LAST-MODIFIED:20240508T135512Z
UID:2493-1717027200-1717372799@www.gruppidilettura.it
SUMMARY:La grande invasione 2024
DESCRIPTION:Nel 2024 il festivalLa grande invasione raddoppia e si svolgerà dal 30 maggio al 2 giugno a Ivrea e in contemporanea dal 31 maggio al 2 giugno ad Aosta. \nIn programma decine di iniziative adatte a lettori di ogni età e interesse\, favorendo il dialogo tra pubblico e autori\, celebrando il valore intrinseco della parola\, che sia scritta\, letta o ascoltata.
URL:https://www.gruppidilettura.it/event/la-grande-invasione-2024/
ATTACH;FMTTYPE=image/png:https://www.gruppidilettura.it/wp-content/uploads/2024/05/Logo-GI_Tavola-disegno-1-1-800x293-1.png
END:VEVENT
BEGIN:VEVENT
DTSTART;VALUE=DATE:20240529
DTEND;VALUE=DATE:20240531
DTSTAMP:20260420T041719
CREATED:20240508T135133Z
LAST-MODIFIED:20240508T135133Z
UID:2490-1716940800-1717113599@www.gruppidilettura.it
SUMMARY:Premio letterario Gregor Von Rezzori XVIII Edizione
DESCRIPTION:Il Premio Gregor von Rezzori – Città di Firenze nasce nel 2007 per iniziativa della Santa Maddalena Foundation ed è diventato un premio di grande rilievo. Nel 2024 il Festival si aprirà il 29 maggio alle ore 18:00 con la Lectio Magistralis di Hisham Matar\, scrittore di origini libiche con nazionalità inglese\, vincitore del Premio Pulitzer nel 2017. \nIl 30 maggio alle ore 11:00 si svolgerà\, presso il Gabinetto Scientifico Letterario G.P. Vieusseux\, la cerimonia di premiazione della prima edizione del Premio Gregor von Rezzori per Giovani Poeti\, alle ore 17:30 il Festival dedicherà poi un ricordo a Michela Murgia e al suo rapporto con la lingua coreana presso il Cinema La Compagnia con una conversazione tra i giurati del Premio per la migliore traduzione in italiano e la traduttrice della scrittrice Hee Sun Moon.
URL:https://www.gruppidilettura.it/event/premio-letterario-gregor-von-rezzori-xviii-edizione/
LOCATION:Firenze
ATTACH;FMTTYPE=image/png:https://www.gruppidilettura.it/wp-content/uploads/2024/05/Schermata-2024-05-08-alle-15.50.57.png
END:VEVENT
BEGIN:VEVENT
DTSTART;VALUE=DATE:20240524
DTEND;VALUE=DATE:20240527
DTSTAMP:20260420T041719
CREATED:20240516T152829Z
LAST-MODIFIED:20240516T155211Z
UID:2505-1716508800-1716767999@www.gruppidilettura.it
SUMMARY:Emporio Letterario di Pienza 2024
DESCRIPTION:L’Emporio Letterario di Pienza è un Festival realizzato da Associazione Culturale Compagnia del Teatro – Caffeina Eventi in collaborazione con Comune di Pienza. La manifestazione rappresenta un appuntamento di approfondimento sulla letteratura e sui libri che si tiene nella bellissima cornice della Val d’Orcia: tre giorni caratterizzati da presentazioni di libri\, lectiones magistrales\, approfondimenti sul mondo della letteratura\, dell’editoria\, del giornalismo culturale e di ogni altra forma di espressione artistica.
URL:https://www.gruppidilettura.it/event/emporio-letterario-di-pienza-2024/
CATEGORIES:Festival,Rassegna letteraria
ATTACH;FMTTYPE=image/png:https://www.gruppidilettura.it/wp-content/uploads/2024/05/Screenshot-18.png
END:VEVENT
BEGIN:VEVENT
DTSTART;VALUE=DATE:20240524
DTEND;VALUE=DATE:20240527
DTSTAMP:20260420T041719
CREATED:20240516T152347Z
LAST-MODIFIED:20240516T152347Z
UID:2502-1716508800-1716767999@www.gruppidilettura.it
SUMMARY:Memoria Festival 2024
DESCRIPTION:Nato nel 2016 dalla collaborazione tra il Consorzio per il Festival della Memoria e Giulio Einaudi editore\, il Memoria Festival si svolge a Mirandola (MO) solitamente nella prima metà di giugno. Tema centrale\, la Memoria è raccontata e analizzata da molteplici aspetti: orizzonte del passato\, certo\, ma anche linea dalla quale guardare al futuro e alle sue sfide. \nTra gli ospiti presenti Silvia Bencivelli\, Lina Bolzoni\, Edoardo Camurri\, Lucrezia Ercoli\, Fabrizio Gifuni\, Marco Lodoli\, Giorgio Manzi\, Morgan\, Alberto Oliverio\, Massimo Polidoro\, Emanuela Pulvirenti\, Massimo Recalcati\, Nicola Rizzoli\, Lucetta Scaraffia\, Giuseppe Vessicchio e Iva Zanicchi.
URL:https://www.gruppidilettura.it/event/memoria-festival-2024/
CATEGORIES:Festival
ATTACH;FMTTYPE=image/png:https://www.gruppidilettura.it/wp-content/uploads/2024/05/Screenshot-17.png
END:VEVENT
BEGIN:VEVENT
DTSTART;VALUE=DATE:20240524
DTEND;VALUE=DATE:20240527
DTSTAMP:20260420T041719
CREATED:20240508T134402Z
LAST-MODIFIED:20240508T134402Z
UID:2484-1716508800-1716767999@www.gruppidilettura.it
SUMMARY:Dialoghi di Pistoia
DESCRIPTION:Dialoghi: fra relatori\, fra discipline diverse\, fra relatori e pubblico\, perché l’importante è dialogare\, per meglio capire\, conoscere e confrontarsi. È questo il punto di partenza del festival Dialoghi di Pistoia\, ideato e diretto da Giulia Cogoli\, animato da un impegno culturale e civile e dalla volontà di coinvolgere il più vasto pubblico possibile durante tre giorni di incontri\, lezioni\, spettacoli e letture nel centro storico di Pistoia. \nUn festival di approfondimento culturale dedicato all’antropologia del contemporaneo\, che vuole offrire a chi partecipa nuovi sguardi sulle società umane\, ponendo a confronto esperti di diversi ambiti in un colloquio che attraversi i confini disciplinari e proponga letture inedite del mondo che ci circonda.
URL:https://www.gruppidilettura.it/event/dialoghi-di-pistoia/
LOCATION:Pistoia
CATEGORIES:Convegno,Festival,Rassegna letteraria
ATTACH;FMTTYPE=image/jpeg:https://www.gruppidilettura.it/wp-content/uploads/2024/05/pistoia.jpg
END:VEVENT
BEGIN:VEVENT
DTSTART;VALUE=DATE:20240516
DTEND;VALUE=DATE:20240520
DTSTAMP:20260420T041719
CREATED:20240516T160333Z
LAST-MODIFIED:20240516T160333Z
UID:2508-1715817600-1716163199@www.gruppidilettura.it
SUMMARY:Leggenda Festival 2024
DESCRIPTION:Una nuova edizione. Un’occasione per vivere insieme la città nel segno della cultura e dell’incontro. Leggenda\, festival della lettura e dell’ascolto organizzato dal Comune di Empoli\, torna a Empoli da giovedì 16 a domenica 19 maggio 2024. \nLa settima edizione coinvolge  128 le classi delle scuole dell’infanzia\, primarie e secondarie di primo grado del Comune di Empoli che hanno aderito a Leggenda e che incontreranno autrici e autori in orario scolastico durante i giorni del Festival. \nLeggenda è e rimane anche teatro d’incontro fra scrittori\, artisti\, educatori\, librai e lettori-ascoltatori. Un luogo di promozione\, fin dalla più tenera età\, della lettura intesa come indispensabile tecnologia ‘fantastica’ per sognare mondi possibili\, promuovere l’ascolto come attitudine all’incontro con l’altro e l’altrove e consolidare la formazione degli insegnanti e degli educatori con percorsi innovativi\, laboratori e incontri con esperti.
URL:https://www.gruppidilettura.it/event/leggenda-festival-2024/
LOCATION:Empoli
CATEGORIES:Festival,Rassegna letteraria
ATTACH;FMTTYPE=image/png:https://www.gruppidilettura.it/wp-content/uploads/2024/05/bambina-2024-1.png
END:VEVENT
BEGIN:VEVENT
DTSTART;VALUE=DATE:20240513
DTEND;VALUE=DATE:20240520
DTSTAMP:20260420T041719
CREATED:20240508T133850Z
LAST-MODIFIED:20240508T133850Z
UID:2479-1715558400-1716163199@www.gruppidilettura.it
SUMMARY:Le Strade dei Libri 2024
DESCRIPTION:Dal 13 al 19 maggio Le Strade dei Libri ritorna nel centro storico di Francavilla Fontana (BR) per la sesta edizione del festival dedicato principalmente agli albi illustrati e alla letteratura per l’infanzia\, anche viste con sguardo adulto. \nPer questa edizione sono previste letture\, laboratori\, incontri\, mostre\, musica e presentazioni\,  con illustratrici e illustratori del panorama nazionale come Andrea Antinori\, Irene Guglielmi\, Giovanni Colaneri e Edo Massa e molti altri ospiti. \n 
URL:https://www.gruppidilettura.it/event/le-strade-dei-libri-2024/
LOCATION:Francavilla Fontana
ATTACH;FMTTYPE=image/png:https://www.gruppidilettura.it/wp-content/uploads/2024/05/stradelibri.png
END:VEVENT
BEGIN:VEVENT
DTSTART;VALUE=DATE:20240509
DTEND;VALUE=DATE:20240514
DTSTAMP:20260420T041719
CREATED:20240410T133446Z
LAST-MODIFIED:20240410T133446Z
UID:2447-1715212800-1715644799@www.gruppidilettura.it
SUMMARY:Salone Internazionale del Libro di Torino 2024
DESCRIPTION:“Vita immaginaria” è il tema della XXXVI edizione del Salone Internazionale del Libro di Torino che si svolgerà dal 9 al 13 maggio 2024. Novità della XXXVI edizione\, diretta da Annalena Benini\, sono le sette sezioni che affiancano la programmazione generale\, ognuna dedicata a un tema rilevante e centrale per il Salone. La curatela e la moderazione sono affidate a scrittrici\, scrittori\, intellettuali e artisti\, che per ogni argomento hanno ideato una serie di incontri.
URL:https://www.gruppidilettura.it/event/salone-internazionale-del-libro-di-torino-2024/
LOCATION:Torino
CATEGORIES:Festival,Fiera
ATTACH;FMTTYPE=image/png:https://www.gruppidilettura.it/wp-content/uploads/2024/04/Schermata-2024-04-10-alle-15.30.39.png
END:VEVENT
BEGIN:VEVENT
DTSTART;VALUE=DATE:20240424
DTEND;VALUE=DATE:20240429
DTSTAMP:20260420T041719
CREATED:20240410T130651Z
LAST-MODIFIED:20240410T131952Z
UID:2437-1713916800-1714348799@www.gruppidilettura.it
SUMMARY:La fabbrica di carta
DESCRIPTION:La Fabbrica di Carta\, giunta alla sua 26^ edizione\, si trasforma in un Festival con spazi di approfondimento e incontri con autori nazionali e locali. In più due mostre\, un laboratorio e una piccola esposizione con tutti i libri presentati durante la rassegna.
URL:https://www.gruppidilettura.it/event/la-fabbrica-di-carta/
LOCATION:Villadossola
CATEGORIES:Festival
ATTACH;FMTTYPE=image/png:https://www.gruppidilettura.it/wp-content/uploads/2024/04/Schermata-2024-04-10-alle-15.02.00.png
END:VEVENT
BEGIN:VEVENT
DTSTART;VALUE=DATE:20240422
DTEND;VALUE=DATE:20240426
DTSTAMP:20260420T041719
CREATED:20240410T123618Z
LAST-MODIFIED:20240410T124035Z
UID:2431-1713744000-1714089599@www.gruppidilettura.it
SUMMARY:Fiera del Libro di Argonautilus 2024
DESCRIPTION:La IX edizione della Fiera del Libro di Iglesias\, in programma dal 22 al 25 aprile 2024 nel centro storico di Iglesias\, avrà come tema: Attenzione.\nAttenzione da intendersi non come segnale di pericolo ma come attitudine nell’osservare la società e leggere gli eventi\, al fine di orientarsi tra i molteplici stimoli della società contemporanea e maturare conoscenza e punti di vista consapevoli.
URL:https://www.gruppidilettura.it/event/fiera-del-libro-di-argonautilus-2024/
LOCATION:Iglesias
CATEGORIES:Festival
ATTACH;FMTTYPE=image/png:https://www.gruppidilettura.it/wp-content/uploads/2024/04/Schermata-2024-04-10-alle-14.30.13.png
END:VEVENT
BEGIN:VEVENT
DTSTART;VALUE=DATE:20240419
DTEND;VALUE=DATE:20240422
DTSTAMP:20260420T041719
CREATED:20240409T102605Z
LAST-MODIFIED:20240409T102713Z
UID:2426-1713484800-1713743999@www.gruppidilettura.it
SUMMARY:Libri per le tue orecchie - edizione podcast
DESCRIPTION:Dal 19 al 21 aprile\, negli spazi di Zalib\, in via della Penitenza a Roma\, arriva Libri per le tue orecchie- edizione podcast\, il festival di Emons dedicato all’audio dove si incontreranno scrittori\, tecnici\, podcaster\, editori\, produttori per raccontare come stia cambiando il mercato.
URL:https://www.gruppidilettura.it/event/libri-per-le-tue-orecchie-edizione-podcast/
LOCATION:Roma
CATEGORIES:Festival
ATTACH;FMTTYPE=image/png:https://www.gruppidilettura.it/wp-content/uploads/2024/04/Schermata-2024-04-09-alle-12.25.23.png
END:VEVENT
BEGIN:VEVENT
DTSTART;TZID=Europe/Rome:20240417T080000
DTEND;TZID=Europe/Rome:20240417T170000
DTSTAMP:20260420T041719
CREATED:20240417T171532Z
LAST-MODIFIED:20240417T171532Z
UID:2463-1713340800-1713373200@www.gruppidilettura.it
SUMMARY:Lettura per i giovani\, ovvero un fenomeno che parte dai blog
DESCRIPTION:
URL:https://www.gruppidilettura.it/event/lettura-per-i-giovani-ovvero-un-fenomeno-che-parte-dai-blog/
END:VEVENT
BEGIN:VEVENT
DTSTART;VALUE=DATE:20240415
DTEND;VALUE=DATE:20240421
DTSTAMP:20260420T041719
CREATED:20240410T132157Z
LAST-MODIFIED:20240410T132845Z
UID:2442-1713139200-1713657599@www.gruppidilettura.it
SUMMARY:Festival del Libro e della Lettura di Enna 2024
DESCRIPTION:L’Associazione Culturale APS Amici della Festa del libro – Il sasso nello stagno\, in collaborazione con il Comune di Enna Città che Legge e 20 Istituti Scolastici di Enna e provincia\, Caltanissetta e Catania in accordo di Rete\, con Condensed Studio Partner e Calicanto Associazione Culturale Zafferana Etnea\, presenta la XIII Edizione del Festival del Libro e della Lettura di Enna\, che si svolgerà dal 15 al 20 aprile 2024. \nUn’occasione speciale per diffondere la lettura\, nutrimento dell’anima\, e incontrare autori\, illustratori\, bibliotecari\, narratori\, librai\, giornalisti\, registi\, poeti e soprattutto…sognatori.
URL:https://www.gruppidilettura.it/event/festival-del-libro-e-della-lettura-di-enna-2024/
LOCATION:Enna
ATTACH;FMTTYPE=image/png:https://www.gruppidilettura.it/wp-content/uploads/2024/04/Schermata-2024-04-10-alle-15.19.08.png
END:VEVENT
BEGIN:VEVENT
DTSTART;VALUE=DATE:20240412
DTEND;VALUE=DATE:20240415
DTSTAMP:20260420T041719
CREATED:20240409T102422Z
LAST-MODIFIED:20240409T102422Z
UID:2423-1712880000-1713139199@www.gruppidilettura.it
SUMMARY:Libro Aperto
DESCRIPTION:Libro Aperto è un festival diffuso dedicato interamente alla letteratura per ragazzi. La terza edizione si svolgerà il 12\, 13 e 14 Aprile 2024 a Baronissi (Salerno). Una kermesse che vede i giovanissimi lettori protagonisti.
URL:https://www.gruppidilettura.it/event/libro-aperto/
CATEGORIES:Festival
ATTACH;FMTTYPE=image/png:https://www.gruppidilettura.it/wp-content/uploads/2024/04/Schermata-2024-04-09-alle-12.22.33.png
END:VEVENT
BEGIN:VEVENT
DTSTART;VALUE=DATE:20240411
DTEND;VALUE=DATE:20240415
DTSTAMP:20260420T041719
CREATED:20240409T101451Z
LAST-MODIFIED:20240409T101451Z
UID:2417-1712793600-1713139199@www.gruppidilettura.it
SUMMARY:La storia tra le righe
DESCRIPTION:Si terrà dall’11 al 14 aprile 2024 a Legnano la seconda edizione de “La storia tra le righe”\, il Festival di Letteratura Storica nato lo scorso anno su impulso di Fondazione Palio e del Comune di Legnano.
URL:https://www.gruppidilettura.it/event/la-storia-tra-le-righe/
CATEGORIES:Festival
ATTACH;FMTTYPE=image/png:https://www.gruppidilettura.it/wp-content/uploads/2024/04/Schermata-2024-04-09-alle-12.13.06.png
END:VEVENT
BEGIN:VEVENT
DTSTART;VALUE=DATE:20240411
DTEND;VALUE=DATE:20240414
DTSTAMP:20260420T041719
CREATED:20240409T101911Z
LAST-MODIFIED:20240409T101911Z
UID:2420-1712793600-1713052799@www.gruppidilettura.it
SUMMARY:La città dei lettori
DESCRIPTION:Anche quest’anno torna La città dei lettori\, il festival itinerante che gira diverse località della Toscana dalla primavera all’autunno\, dedicato alla letteratura contemporanea e ai suoi protagonisti. Gli eventi del 2024 iniziano nei giorni dall’11 al 13 aprile a Firenze con la seconda edizione de La città dei giovani lettori.
URL:https://www.gruppidilettura.it/event/la-citta-dei-lettori/
CATEGORIES:Festival
ATTACH;FMTTYPE=image/png:https://www.gruppidilettura.it/wp-content/uploads/2024/04/Schermata-2024-04-09-alle-12.18.25.png
END:VEVENT
BEGIN:VEVENT
DTSTART;VALUE=DATE:20240410
DTEND;VALUE=DATE:20240415
DTSTAMP:20260420T041719
CREATED:20240409T095626Z
LAST-MODIFIED:20240409T095817Z
UID:2412-1712707200-1713139199@www.gruppidilettura.it
SUMMARY:Incroci di Civiltà
DESCRIPTION:Dal 10 al 14 aprile 2024 il festival porta a Venezia la letteratura da tutto il mondo. Scrittrici e scrittori internazionali animeranno anche quest’anno il programma dell’edizione 2024 e si daranno appuntamento nella città lagunare. “Incroci di civiltà” è un festival speciale\, l’unico organizzato da un’università in Italia\, e rappresenta un crocevia di esperienze\, letterature e arti diverse che si incontrano a Venezia per dar vita a un dialogo fra culture e civiltà.
URL:https://www.gruppidilettura.it/event/incroci-di-civilta/
LOCATION:Venezia
CATEGORIES:Festival
ATTACH;FMTTYPE=image/png:https://www.gruppidilettura.it/wp-content/uploads/2024/04/Schermata-2024-04-09-alle-11.54.50.png
END:VEVENT
BEGIN:VEVENT
DTSTART;VALUE=DATE:20240408
DTEND;VALUE=DATE:20240412
DTSTAMP:20260420T041719
CREATED:20240409T095349Z
LAST-MODIFIED:20240409T095902Z
UID:2406-1712534400-1712879999@www.gruppidilettura.it
SUMMARY:Bologna Children’s Book Fair
DESCRIPTION:Torna il più importante appuntamento professionale al mondo dedicato all’editoria per bambini e ragazzi\, nel 2024 giunto alla sua 61ª edizione.
URL:https://www.gruppidilettura.it/event/bologna-childrens-book-fair/
LOCATION:Bologna
CATEGORIES:Fiera,Mostra
ATTACH;FMTTYPE=image/png:https://www.gruppidilettura.it/wp-content/uploads/2024/04/Schermata-2024-04-09-alle-11.52.08.png
END:VEVENT
BEGIN:VEVENT
DTSTART;VALUE=DATE:20240308
DTEND;VALUE=DATE:20240311
DTSTAMP:20260420T041719
CREATED:20240102T141639Z
LAST-MODIFIED:20240102T141639Z
UID:2203-1709856000-1710115199@www.gruppidilettura.it
SUMMARY:Book Pride 2024
DESCRIPTION:Book Pride nasce nel 2015 per iniziativa di Odei\, Osservatorio degli editori indipendenti\, conta ad oggi cinque edizioni e ha l’obiettivo di dare voce e rappresentanza all’editoria indipendente. \nLa prossima edizione di Book Pride sarà a Milano\, a Superstudio Maxi\, dall’8 al 10 marzo 2024.
URL:https://www.gruppidilettura.it/event/book-pride-2024/
LOCATION:Superstudio Maxi\, Via Moncucco\, 35\, Milano
CATEGORIES:Fiera
ATTACH;FMTTYPE=image/png:https://www.gruppidilettura.it/wp-content/uploads/2024/01/logo-bookpride-e1704204967956.png
END:VEVENT
BEGIN:VEVENT
DTSTART;VALUE=DATE:20240223
DTEND;VALUE=DATE:20240226
DTSTAMP:20260420T041719
CREATED:20240102T140417Z
LAST-MODIFIED:20240102T140417Z
UID:2195-1708646400-1708905599@www.gruppidilettura.it
SUMMARY:Testo - come si diventa un libro
DESCRIPTION:Testo è la manifestazione per lettori e addetti ai lavori che propone una visione in profondità del mondo dei libri e porta nel capoluogo toscana la migliore editoria e ospiti da tutto il mondo. Un appuntamento annuale che propone una visione in profondità del mondo dei libri e porta a Firenze la migliore editoria\, con una selezione di titoli e novità letterarie\, ospiti da tutto il mondo e un ricco programma di eventi. \nLa nuova ediizone è in programma nella sede della Stazione Leopolda di Firenze dal 23 al 25 febbraio.
URL:https://www.gruppidilettura.it/event/testo-come-si-diventa-un-libro/
LOCATION:Firenze
CATEGORIES:Festival
ATTACH;FMTTYPE=image/png:https://www.gruppidilettura.it/wp-content/uploads/2024/01/Screenshot-1.png
END:VEVENT
BEGIN:VEVENT
DTSTART;TZID=Europe/Rome:20240216T170000
DTEND;TZID=Europe/Rome:20240216T190000
DTSTAMP:20260420T041719
CREATED:20240214T145452Z
LAST-MODIFIED:20240214T145452Z
UID:2279-1708102800-1708110000@www.gruppidilettura.it
SUMMARY:Verbania Book Forum
DESCRIPTION:La nostra vita è sempre più digitale ma non mancano dubbi e domande sul modo di utilizzare la tecnologia\, nel lavoro\, nelle relazioni interpersonali e nelle abitudini quotidiane ma anche nella comunicazione e nei libri\, tra fake news\, social\, ChatGPT\, audiolibri\, podcast e ebook. Venerdì 16 febbraio\, a Verbania\, la seconda edizione del Verbania Book Forum\, dalle ore 17 al Teatro S. Anna. L’appuntamento\, promosso dalla Biblioteca Civica Ceretti\, in collaborazione con il Laboratorio di editoria dell’Università Cattolica di Milano\, vedrà protagonisti Francesco Costa\, Paolo D’Altan\, Gino Roncaglia e Roberto Cicala\, coordinatore scientifico dell’iniziativa.
URL:https://www.gruppidilettura.it/event/verbania-book-forum/
LOCATION:Verbania\, Via Belgio\, 1\, Verbania
ATTACH;FMTTYPE=image/png:https://www.gruppidilettura.it/wp-content/uploads/2024/02/Schermata-2024-02-14-alle-15.22.06.png
END:VEVENT
BEGIN:VEVENT
DTSTART;VALUE=DATE:20240216
DTEND;VALUE=DATE:20240219
DTSTAMP:20260420T041719
CREATED:20240214T151419Z
LAST-MODIFIED:20240214T151419Z
UID:2284-1708041600-1708300799@www.gruppidilettura.it
SUMMARY:FLIP Poesia
DESCRIPTION:Ediizone invernale del FLIP – Festival della Letteratura Indipendente di Pomgiliano d’Arco –  dedicata interamente alla poesia. Dal 16 al 18 Febbraio 2024 incontri so e su autrici e autori italiani e internazionali. Tre giorni di eventi senza accavallamenti per permettere a tutti i frequentatori e frequentatrici di godere al massimo di tutti gli ospiti. \nLa mattina sarà dedicata al mondo dei versi per i più piccoli: sarà un momento perfetto per far scoprire loro una realtà vastissima\, pensata a misura della loro curiosità\, con dialoghi e versi sulla poesia come atto sensoriale e sull’impatto rivoluzionario dei versi. \nIl pomeriggio avrà interventi per un pubblico più adulto\, per esplorare il panorama contemporaneo della poesia\, tracciando Mappe\, inseguendo Tracce e Costellazioni e costruendo nuove Bussole. \nOgni incontro sarà gratuito e ad accesso libero. \n 
URL:https://www.gruppidilettura.it/event/flip-poesia/
LOCATION:Pomigliano d’Arco\, Pomigliano d’Arco\, Italia
CATEGORIES:Festival,Rassegna letteraria
ATTACH;FMTTYPE=image/png:https://www.gruppidilettura.it/wp-content/uploads/2024/02/Schermata-2024-02-14-alle-16.06.32.png
END:VEVENT
BEGIN:VEVENT
DTSTART;VALUE=DATE:20240209
DTEND;VALUE=DATE:20240212
DTSTAMP:20260420T041719
CREATED:20240102T132330Z
LAST-MODIFIED:20240102T132330Z
UID:2190-1707436800-1707695999@www.gruppidilettura.it
SUMMARY:Nebbia Gialla Suzzara Noir Festival
DESCRIPTION:Il NebbiaGialla Suzzara Noir Festival\, la cui prima edizione risale al febbraio 2007\, è diventato con gli anni un appuntamento di riferimento per gli scrittori crime italiani e una realtà sempre più importante a livello nazionale. La prossima edizione del festival NebbiaGialla si terrà dal 9 all’11 febbraio 2024.
URL:https://www.gruppidilettura.it/event/nebbia-gialla-suzzara-noir-festival/
LOCATION:Suzzara
ATTACH;FMTTYPE=image/webp:https://www.gruppidilettura.it/wp-content/uploads/2024/01/immagine-nebbia-gialla.webp
END:VEVENT
BEGIN:VEVENT
DTSTART;VALUE=DATE:20240126
DTEND;VALUE=DATE:20240129
DTSTAMP:20260420T041719
CREATED:20240123T100644Z
LAST-MODIFIED:20240123T100644Z
UID:2241-1706227200-1706486399@www.gruppidilettura.it
SUMMARY:Sherbooks Festival 2024
DESCRIPTION:Sherbooks Festival è l’evento invernale dedicato all’editoria e alla letteratura indipendente\, arrivato alla sua quarta edizione. Venerdì 26\, sabato 27 e domenica 28 gennaio 2024 saranno tre giornate dedicate a dibattiti e incontri che vedranno protagoniste le case editrici indipendenti di tutta Italia.
URL:https://www.gruppidilettura.it/event/sherbooks-festival-2024/
LOCATION:Padova
ATTACH;FMTTYPE=image/png:https://www.gruppidilettura.it/wp-content/uploads/2024/01/Schermata-2024-01-23-alle-10.27.51.png
END:VEVENT
BEGIN:VEVENT
DTSTART;VALUE=DATE:20240126
DTEND;VALUE=DATE:20240129
DTSTAMP:20260420T041719
CREATED:20240123T100500Z
LAST-MODIFIED:20240123T100500Z
UID:2247-1706227200-1706486399@www.gruppidilettura.it
SUMMARY:I giorni della merla – Macerata Racconta
DESCRIPTION:L’inverno\, da sempre\, è la stagione delle braci ardenti che scaldano e illuminano\, davanti alle quali la vita rallenta e le storie prendono vita.\nLe curatrici Loredana Lipperini e Lucia Tancredi\, hanno scelto di muovere quelle braci per liberare il racconto di fuochi che furono e fuochi che bruciano ancora. \nGli incontri si svolgeranno esclusivamente in presenza presso il Teatro della Filarmonica\, con inizio alle ore 17\,30. L’ingresso è libero senza prenotazione\, fino ad esaurimento posti.
URL:https://www.gruppidilettura.it/event/i-giorni-della-merla-macerata-racconta/
ATTACH;FMTTYPE=image/png:https://www.gruppidilettura.it/wp-content/uploads/2024/01/Schermata-2024-01-23-alle-10.55.03.png
END:VEVENT
BEGIN:VEVENT
DTSTART;VALUE=DATE:20240125
DTEND;VALUE=DATE:20240129
DTSTAMP:20260420T041719
CREATED:20231204T095337Z
LAST-MODIFIED:20231204T095337Z
UID:2056-1706140800-1706486399@www.gruppidilettura.it
SUMMARY:Mi prendo il mondo
DESCRIPTION:La nuova iniziativa ideata dal Salone Internazionale del Libro di Torino in collaborazione con la Città di Parma e con il sostegno di Fondazione Cariparma: “Mi prendo il mondo – In dialogo con le nuove generazioni”. \nL’iniziativa si svolgerà dal 25 al 28 gennaio 2024 a Parma in diversi spazi pubblici cittadini e avrà come fulcro degli appuntamenti il Centro Congressi Paganini. Gli appuntamenti prenderanno il via con due lezioni inaugurali riservate alle scuole medie: quella di Marco Malvaldi sulla chimica e quella di Piergiorgio Odifreddi sulla matematica.
URL:https://www.gruppidilettura.it/event/mi-prendo-il-mondo/
LOCATION:Centro Congressi Paganini\, Via Toscana 5/a\, Parma\, Italia
CATEGORIES:Festival
ATTACH;FMTTYPE=image/png:https://www.gruppidilettura.it/wp-content/uploads/2023/12/Schermata-2023-12-04-alle-10.52.02.png
END:VEVENT
BEGIN:VEVENT
DTSTART;VALUE=DATE:20231215
DTEND;VALUE=DATE:20231216
DTSTAMP:20260420T041719
CREATED:20231206T160732Z
LAST-MODIFIED:20231206T160732Z
UID:2142-1702598400-1702684799@www.gruppidilettura.it
SUMMARY:Scrittrici Insieme 2023
DESCRIPTION:Scrittrici Insieme è un festival letterario nato per gioco durante una cena tra amiche e diventato un appuntamento irrinunciabile per gli amanti della cultura. Giunto all’undicesima edizione\, quest’anno il festival aspetta il suo pubblico nella Sala Olimpo del Castello Visconti di San Vito\, nel cuore di Somma Lombardo\, con tre autrici affermate come Vivian Lamarque\, Silvia Ballestra e Benedetta Tobagi\, e un recital messo in scena da due giovani artisti del territorio\, alle 18 di venerdì 15 dicembre.
URL:https://www.gruppidilettura.it/event/scrittrici-insieme-2023/
LOCATION:Somma Lombardo
CATEGORIES:Festival
ATTACH;FMTTYPE=image/png:https://www.gruppidilettura.it/wp-content/uploads/2023/12/Schermata-2023-12-06-alle-17.04.48.png
END:VEVENT
END:VCALENDAR