BEGIN:VCALENDAR
VERSION:2.0
PRODID:-//www.gruppidilettura.it - ECPv6.15.20//NONSGML v1.0//EN
CALSCALE:GREGORIAN
METHOD:PUBLISH
X-WR-CALNAME:www.gruppidilettura.it
X-ORIGINAL-URL:https://www.gruppidilettura.it
X-WR-CALDESC:Eventi per www.gruppidilettura.it
REFRESH-INTERVAL;VALUE=DURATION:PT1H
X-Robots-Tag:noindex
X-PUBLISHED-TTL:PT1H
BEGIN:VTIMEZONE
TZID:Europe/Rome
BEGIN:DAYLIGHT
TZOFFSETFROM:+0100
TZOFFSETTO:+0200
TZNAME:CEST
DTSTART:20240331T010000
END:DAYLIGHT
BEGIN:STANDARD
TZOFFSETFROM:+0200
TZOFFSETTO:+0100
TZNAME:CET
DTSTART:20241027T010000
END:STANDARD
BEGIN:DAYLIGHT
TZOFFSETFROM:+0100
TZOFFSETTO:+0200
TZNAME:CEST
DTSTART:20250330T010000
END:DAYLIGHT
BEGIN:STANDARD
TZOFFSETFROM:+0200
TZOFFSETTO:+0100
TZNAME:CET
DTSTART:20251026T010000
END:STANDARD
BEGIN:DAYLIGHT
TZOFFSETFROM:+0100
TZOFFSETTO:+0200
TZNAME:CEST
DTSTART:20260329T010000
END:DAYLIGHT
BEGIN:STANDARD
TZOFFSETFROM:+0200
TZOFFSETTO:+0100
TZNAME:CET
DTSTART:20261025T010000
END:STANDARD
END:VTIMEZONE
BEGIN:VEVENT
DTSTART;VALUE=DATE:20250626
DTEND;VALUE=DATE:20250630
DTSTAMP:20260420T051917
CREATED:20250610T081327Z
LAST-MODIFIED:20250610T081327Z
UID:4045-1750896000-1751241599@www.gruppidilettura.it
SUMMARY:FLIP – Festival della Letteratura Indipendente di Pomigliano d’Arco 2025
DESCRIPTION:Il FLIP 2025 sceglie\, come suo tema conduttore\, una parola al plurale: “Esplorazioni”. Esplorazione della letteratura anche attraverso un programam ricco di ospiti di spicco\, diversi dai soliti nomi. La letteratura come porto di partenza e come porto di arrivo: copertura di distanze\, approfondimento di distanze: via per ricucire voci che non comunicano o per strappare il velo di parole falsificate. Il FLIP 2025 vuol farsi strada per il racconto delle esplorazioni ed esperienza diretta del rinnovarsi dell’Esplorazione. Tra gli ospiti: Hope Larson\, Carola Susani\, Nicolò Cavallaro\, Noo Saro-Wiwa\, Naja Marie Aidt\, Veronica Galletta
URL:https://www.gruppidilettura.it/event/flip-festival-della-letteratura-indipendente-di-pomigliano-darco-2025/
ATTACH;FMTTYPE=image/png:https://www.gruppidilettura.it/wp-content/uploads/2025/06/Schermata-2025-06-10-alle-10.13.09.png
END:VEVENT
BEGIN:VEVENT
DTSTART;VALUE=DATE:20250623
DTEND;VALUE=DATE:20250630
DTSTAMP:20260420T051917
CREATED:20250610T080517Z
LAST-MODIFIED:20250610T080517Z
UID:4042-1750636800-1751241599@www.gruppidilettura.it
SUMMARY:Pavese Festival 2025
DESCRIPTION:Pavese Festival si svolge a Santo Stefano Belbo da lunedì 23 a domenica 29 giugno 2025. Con il festival torna anche il Premio Pavese Musica\, che quest’anno consegneremo a Paolo Conte. Il tema di quest’anno – Mari proibiti e coste barbariche – riprende una frase del primo capitolo di Moby Dick\, che Cesare Pavese tradusse poco più che ventenne. Tra gli ospiti: Paola Turci e Gino Castaldo\, con il nuovo spettacolo La rivoluzione delle donne\, Neri Marcorè e Luca Barbarossa\, con uno spettacolo ideato appositamente per il Pavese Festival\, e Roberto Mercadini con il suo Moby Dick. Ma anche Francesco Bianconi con Matteo B. Bianchi\, l’attore Andrea Bosca\, intervistato da Giulia Ciarapica\, e Lorenzo Baravalle\, Roberto Cotroneo\, Carlo Greppi\, Gian Marco Griffi e Orso Tosco. Inoltre anche quest’anno torna Dieci piccoli editori\, la festa dell’editoria indipendente\, con le case editrici Aboca\, Clichy\, Ediciclo\, Exorma\, Giulio Perrone\, Hopefulmonster\, Jaca Book\, NNE\, NR e Nutrimenti.
URL:https://www.gruppidilettura.it/event/pavese-festival-2025/
ATTACH;FMTTYPE=image/png:https://www.gruppidilettura.it/wp-content/uploads/2025/06/PF25_quad_600x600.png
END:VEVENT
BEGIN:VEVENT
DTSTART;TZID=Europe/Rome:20250619T080000
DTEND;TZID=Europe/Rome:20250621T170000
DTSTAMP:20260420T051917
CREATED:20250610T082554Z
LAST-MODIFIED:20250610T082554Z
UID:4052-1750320000-1750525200@www.gruppidilettura.it
SUMMARY:Gita al faro edizione 2025
DESCRIPTION:Dal 19 al 21 giugno la piazza\, la libreria e i giardini di Ventotene accoglieranno la dodicesima edizione di Gita al faro.\n6 ospiti vivranno e scopriranno l’isola e in particolare Santo Stefano e il suo carcere borbonico\, al fine di scrivere un racconto ispirato a questi luoghi cosi significativi per la storia del nostro Paese e dell’Europa.
URL:https://www.gruppidilettura.it/event/gita-al-faro-edizione-2025/
ATTACH;FMTTYPE=image/png:https://www.gruppidilettura.it/wp-content/uploads/2025/06/Schermata-2025-06-10-alle-10.24.38.png
END:VEVENT
BEGIN:VEVENT
DTSTART;VALUE=DATE:20250617
DTEND;VALUE=DATE:20251001
DTSTAMP:20260420T051917
CREATED:20250626T131603Z
LAST-MODIFIED:20250626T131603Z
UID:4078-1750118400-1759276799@www.gruppidilettura.it
SUMMARY:Salento Book Festival 2025
DESCRIPTION:Torna il Salento Book Festival\, manifestazione letteraria itinerante organizzata dall’associazione culturale Festival Nazionale del Libro\, ideata e diretta dal giornalista e autore tv Gianpiero Pisanello. Quest’anno la manifestazione farà tappa in tredici comuni e avrà come co-direttori artistici: Antonella Lattanzi e Massimo Bernardini. Quest’anno il festival si svolge dal 17 giugno alla fine di settembre.
URL:https://www.gruppidilettura.it/event/salento-book-festival-2025/
ATTACH;FMTTYPE=image/png:https://www.gruppidilettura.it/wp-content/uploads/2025/06/Schermata-2025-06-26-alle-15.12.09.png
END:VEVENT
BEGIN:VEVENT
DTSTART;VALUE=DATE:20250617
DTEND;VALUE=DATE:20250620
DTSTAMP:20260420T051917
CREATED:20250610T080003Z
LAST-MODIFIED:20250610T080003Z
UID:4039-1750118400-1750377599@www.gruppidilettura.it
SUMMARY:Biglietti agli amici – Edizione 2025
DESCRIPTION:La rassegna letteraria Biglietti agli amici si svolge a Rimini dal 17 al 19 giugno\, è diretta da Marco Missiroli\, in collaborazione con Babel Agency. Tra gli ospiti: Enrico Brizzi\, Tamara Balducci\, i Fratelli D’Innocenzo\, Michela Giraud\, Ginevra\, Veronica Raimo\, Alcide Pierantozzi\, Francesco Costa\, Stefano Nazzi\, Annie Cohen-Solal e molti altri ospiti.
URL:https://www.gruppidilettura.it/event/biglietti-agli-amici-edizione-2025/
ATTACH;FMTTYPE=image/png:https://www.gruppidilettura.it/wp-content/uploads/2025/06/Schermata-2025-06-10-alle-09.59.22.png
END:VEVENT
BEGIN:VEVENT
DTSTART;VALUE=DATE:20250613
DTEND;VALUE=DATE:20250616
DTSTAMP:20260420T051917
CREATED:20250610T074624Z
LAST-MODIFIED:20250610T074624Z
UID:4033-1749772800-1750031999@www.gruppidilettura.it
SUMMARY:Festa del Libro Itinerante – Anagni
DESCRIPTION:Barchette di Carta è la Festa del Libro Itinerante che si svolgerà ad anagni dal 13 al 15 giugno.
URL:https://www.gruppidilettura.it/event/festa-del-libro-itinerante-anagni/
ATTACH;FMTTYPE=image/png:https://www.gruppidilettura.it/wp-content/uploads/2025/06/Schermata-2025-06-10-alle-09.45.33.png
END:VEVENT
BEGIN:VEVENT
DTSTART;VALUE=DATE:20250611
DTEND;VALUE=DATE:20250616
DTSTAMP:20260420T051917
CREATED:20250610T074412Z
LAST-MODIFIED:20250610T074412Z
UID:4030-1749600000-1750031999@www.gruppidilettura.it
SUMMARY:LETTERA 423 – Il festival della Lettura di Isernia
DESCRIPTION:Dall’11 al 15 giugno si svolgerà la quarta edizione di “LEttera 423!\, il Festival della Lettura di Isernia\, che vedrà alternarsi ospiti tra cui Tim Parks\, Fumettibrutti\, Sandro Bonvissuto\, Danilo Zagaria\, Valerio Aprea\,  Mauro Garofalo\, Gioia Salvatori\, Mauro Berruto\, Lavinia Azzone\, Tiziana Triana\, Ciro Marino\, Roberto Mercadini\, Pierluigi Bersani\, Susanna Mattiangeli\,  Franco Cimei\, Mirco Di Sandro\, Gianmarco Rossi\, Anna Ditta\, Virginia Maciel Da Rocha\, Diego Alverà\, Matteo Cardillo\,  Federica Principi\, Riccardo Meozzi\, Leonardo San Pietro\, Caterina Di Paolo\, Gabriele Sabatini\, DGaia Passamonti\, Laura Mollea\, Carmen Pellegrino\, Aurora Tamigio\, Nicola Muscas.
URL:https://www.gruppidilettura.it/event/lettera-423-il-festival-della-lettura-di-isernia/
ATTACH;FMTTYPE=image/png:https://www.gruppidilettura.it/wp-content/uploads/2025/06/Schermata-2025-06-10-alle-09.43.58.png
END:VEVENT
BEGIN:VEVENT
DTSTART;VALUE=DATE:20250611
DTEND;VALUE=DATE:20250616
DTSTAMP:20260420T051917
CREATED:20250610T073722Z
LAST-MODIFIED:20250610T073722Z
UID:4024-1749600000-1750031999@www.gruppidilettura.it
SUMMARY:Il fiume dei libri – Festival letterario di Lodi 2025
DESCRIPTION:Il Fiume dei Libri è il Festival Letterario di Lodi che mira ad attrarre nuova linfa vitale per la città. La rivitalizzazione dell’ambiente culturale cittadino si intreccia alla grande ambizione di riportare il fiume al centro della vita lodigiana. Tra gli ospiti di questa edizione: Aldo Cazzullo\, Beppe Severgnini\, Sveva Casati Modignani\, Ben Pastor\, Jonathan Bazzi\, Daria Bignardi\, Fabio Genovesi\, la Cinquina Strega e molti altri.
URL:https://www.gruppidilettura.it/event/il-fiume-dei-libri-festival-letterario-di-lodi-2025/
ATTACH;FMTTYPE=image/png:https://www.gruppidilettura.it/wp-content/uploads/2025/06/Schermata-2025-06-10-alle-09.34.55.png
END:VEVENT
BEGIN:VEVENT
DTSTART;VALUE=DATE:20250610
DTEND;VALUE=DATE:20250729
DTSTAMP:20260420T051917
CREATED:20250610T081852Z
LAST-MODIFIED:20250610T081946Z
UID:4048-1749513600-1753747199@www.gruppidilettura.it
SUMMARY:La Milanesiana 2025
DESCRIPTION:Fino al 28 luglio\, la rassegna ideata da Elisabetta Sgarbi da Milano e in giro in diverse località italiane\, porta musica\, letteratura\, arte\, cinema. scienza\, teatro\, diritto\, eocnomia\, sport al centro del dibattito culturale.
URL:https://www.gruppidilettura.it/event/la-milanesiana-2025/
ATTACH;FMTTYPE=image/png:https://www.gruppidilettura.it/wp-content/uploads/2025/06/Schermata-2025-06-10-alle-10.18.32.png
END:VEVENT
BEGIN:VEVENT
DTSTART;VALUE=DATE:20250610
DTEND;VALUE=DATE:20250616
DTSTAMP:20260420T051917
CREATED:20250610T075357Z
LAST-MODIFIED:20250610T075357Z
UID:4036-1749513600-1750031999@www.gruppidilettura.it
SUMMARY:ParoLario – Festival Letterario a Como e Cernobbio – Edizione 2025
DESCRIPTION:L’Associazione culturale Parolario ETS (nata nel 2001 è ente del terzo settore) organizza da più di venti anni Parolario Festival Letterario\, a Como e a Cernobbio. Lo scopo primario della associazione e del festival è quello di promuovere il libro e la lettura attraverso progetti a tema\, l’edizione 2025 si intitola: “Ragione o sentimento? L’eterno dilemma\, da Jane Austen a oggi.“
URL:https://www.gruppidilettura.it/event/parolario-festival-letterario-a-como-e-cernobbio-edizione-2025/
ATTACH;FMTTYPE=image/png:https://www.gruppidilettura.it/wp-content/uploads/2025/06/Schermata-2025-06-10-alle-09.53.28.png
END:VEVENT
BEGIN:VEVENT
DTSTART;VALUE=DATE:20250605
DTEND;VALUE=DATE:20250726
DTSTAMP:20260420T051917
CREATED:20250610T074020Z
LAST-MODIFIED:20250610T074020Z
UID:4027-1749081600-1753487999@www.gruppidilettura.it
SUMMARY:Filosofi lungo l’Oglio
DESCRIPTION:Torna il Festival Filosofi lungo l’Oglio\, Kermesse culturale che prevede incontri\, conferenze e dibattiti con filosofi\, studiosi e intellettuali di rilievo nazionale e internazionale\, sotto la direzione scientifica della Professoressa e filosofa levinasiana Francesca Nodari. Giunto quest’anno alla sua XX edizione\, il Festival proporrà da giovedì 5 giugno a venerdì 25 luglio un ricco calendario di eventi per riflettere attorno al tema Esistere. Saranno 31 gli appuntamenti previsti nelle 23 municipalità lungo il fiume Oglio tra le province di Brescia\, di Bergamo e di Cremona.
URL:https://www.gruppidilettura.it/event/filosofi-lungo-loglio/
ATTACH;FMTTYPE=image/png:https://www.gruppidilettura.it/wp-content/uploads/2025/06/Schermata-2025-06-10-alle-09.38.01.png
END:VEVENT
BEGIN:VEVENT
DTSTART;TZID=Europe/Rome:20250604T080000
DTEND;TZID=Europe/Rome:20250608T170000
DTSTAMP:20260420T051917
CREATED:20250424T105840Z
LAST-MODIFIED:20250424T105840Z
UID:3886-1749024000-1749402000@www.gruppidilettura.it
SUMMARY:La città dei lettori 2025
DESCRIPTION:Torna nel 2025 il festival “La città dei lettori” dedicato all’universo letterario e ai suoi protagonisti. Ogni anno il festival porta a Firenze e sul territorio toscano autori\, traduttori e curatori di primo piano\, con eventi sempre a ingresso gratuito. L’ottava edizione è dedicata ai classici della letteratura.
URL:https://www.gruppidilettura.it/event/la-citta-dei-lettori-2025/
ATTACH;FMTTYPE=image/png:https://www.gruppidilettura.it/wp-content/uploads/2025/04/Schermata-2025-04-24-alle-12.56.08.png
END:VEVENT
BEGIN:VEVENT
DTSTART;VALUE=DATE:20250530
DTEND;VALUE=DATE:20250603
DTSTAMP:20260420T051917
CREATED:20250424T105314Z
LAST-MODIFIED:20250424T105314Z
UID:3883-1748563200-1748908799@www.gruppidilettura.it
SUMMARY:La grande invasione 2025
DESCRIPTION:La grande invasione è il festival della lettura che si svolge a Ivrea dal 2013.
URL:https://www.gruppidilettura.it/event/la-grande-invasione-2025/
ATTACH;FMTTYPE=image/png:https://www.gruppidilettura.it/wp-content/uploads/2025/04/Schermata-2025-04-24-alle-12.52.33.png
END:VEVENT
BEGIN:VEVENT
DTSTART;VALUE=DATE:20250523
DTEND;VALUE=DATE:20250526
DTSTAMP:20260420T051917
CREATED:20250424T104847Z
LAST-MODIFIED:20250424T104847Z
UID:3881-1747958400-1748217599@www.gruppidilettura.it
SUMMARY:Dialoghi di Pistoia 2025
DESCRIPTION:Dal 23 al 25 maggio 2025 si svolgerà la XVI edizione dei Dialoghi di Pistoia\, festival di antropologia del contemporaneo che quest’anno rifletterà sulle diverse modalità e culture dell’abitare il pianeta esplorando il tema Stare al mondo. Ecologie dell’abitare e del convivere. La manifestazione\, ideata e curata da Giulia Cogoli\, è promossa dalla Fondazione Caript e dal Comune di Pistoia. L’edizione 2025 dei Dialoghi di Pistoia intende ripensare e indagare il concetto di abitare allargando lo sguardo dalla casa\, alle comunità al pianeta\, riflettendo sulle diverse modalità di relazione e coesistenza\, numerosi gli ospiti di rilievo attesi per l’evento.
URL:https://www.gruppidilettura.it/event/dialoghi-di-pistoia-2025/
ATTACH;FMTTYPE=image/jpeg:https://www.gruppidilettura.it/wp-content/uploads/2024/05/pistoia.jpg
END:VEVENT
BEGIN:VEVENT
DTSTART;VALUE=DATE:20250515
DTEND;VALUE=DATE:20250520
DTSTAMP:20260420T051917
CREATED:20250424T104214Z
LAST-MODIFIED:20250424T104214Z
UID:3878-1747267200-1747699199@www.gruppidilettura.it
SUMMARY:Salone Internazionale del Libro di Torino 2025
DESCRIPTION:Il Salone Internazionale del Libro di Torino torna al Lingotto Fiere da giovedì 15 a lunedì 19 maggio\, sempre sotto la direzione di Annalena Benini\, per accogliere la comunità di lettrici e lettori di ogni età che incontreranno autrici e autori italiani e internazionali\, e avranno modo di scoprire le opere delle case editrici presenti\, per ascoltare e ragionare sulle parole. Il tema della XXXVII edizione del Salone del Libro sarà Le parole tra noi leggere ed evoca la possibilità costante dell’incontro: il tentativo ostinato e allegro di entrare in contatto con il “noi”\, usando le parole per conoscere\, raccontare\, scambiare idee\, offrendo uno spazio di dialogo sull’arte e la letteratura ma anche su tutto quello che succede\, che riguarda il mondo e quindi ci riguarda. Questo Salone rinnova e omaggia le parole e la particolare materia di cui sono fatte: leggera\, precisa\, preziosa.
URL:https://www.gruppidilettura.it/event/salone-internazionale-del-libro-di-torino-2025/
ATTACH;FMTTYPE=image/png:https://www.gruppidilettura.it/wp-content/uploads/2025/04/Schermata-2025-04-24-alle-12.39.43.png
END:VEVENT
BEGIN:VEVENT
DTSTART;VALUE=DATE:20250509
DTEND;VALUE=DATE:20250513
DTSTAMP:20260420T051917
CREATED:20250422T091859Z
LAST-MODIFIED:20250422T091953Z
UID:3862-1746748800-1747094399@www.gruppidilettura.it
SUMMARY:Popsophia 2025
DESCRIPTION:Dal 9 all’11 maggio ad Ancona la magia è protagonista tra filosofia e spettacolo con musica dal vivo\, cinema e interventi d’autore. Tra gli ospiti Carlo Massarini\, Simone Regazzoni\, Licia Troisi e Gennaro Carillo.
URL:https://www.gruppidilettura.it/event/popsophia-2025/
ATTACH;FMTTYPE=image/png:https://www.gruppidilettura.it/wp-content/uploads/2025/04/Schermata-2025-04-22-alle-11.16.48.png
END:VEVENT
BEGIN:VEVENT
DTSTART;VALUE=DATE:20250509
DTEND;VALUE=DATE:20250512
DTSTAMP:20260420T051917
CREATED:20250422T092216Z
LAST-MODIFIED:20250422T092216Z
UID:3865-1746748800-1747007999@www.gruppidilettura.it
SUMMARY:Leggenda. Festival della lettura e dell’ascolto 2025
DESCRIPTION:Leggenda\, festival della lettura e dell’ascolto organizzato dal Comune di Empoli\, torna da venerdì 9 a domenica 11 maggio 2025.  L’ottava edizione del festival sarà tutta da vivere. Tantissimi incontri\, sia riservati alle scuole in orario scolastico sia aperti al pubblico\, a Palazzo Leggenda\, in altri luoghi caratteristici del festival\, ma anche per le strade della città.
URL:https://www.gruppidilettura.it/event/leggenda-festival-della-lettura-e-dellascolto-2025/
ATTACH;FMTTYPE=image/png:https://www.gruppidilettura.it/wp-content/uploads/2025/04/Schermata-2025-04-22-alle-11.22.03.png
END:VEVENT
BEGIN:VEVENT
DTSTART;VALUE=DATE:20250503
DTEND;VALUE=DATE:20250505
DTSTAMP:20260420T051917
CREATED:20250422T091512Z
LAST-MODIFIED:20250422T091512Z
UID:3859-1746230400-1746403199@www.gruppidilettura.it
SUMMARY:Buk – Festival della piccola e media editoria 2025
DESCRIPTION:Buk Festival della piccola e media editoria è una manifestazione che si svolge ogni anno a Modena\, non è solo esposizione: con numerose iniziative collaterali tra presentazioni di libri\, conferenze e dibattiti sui grandi temi dell’attualità\, reading e atelier letterari\, incontri con autori e personaggi di spicco del mondo della cultura\, Buk si propone come iniziativa di riferimento della scena culturale nazionale ed internazionale.
URL:https://www.gruppidilettura.it/event/buk-festival-della-piccola-e-media-editoria-2025/
ATTACH;FMTTYPE=image/png:https://www.gruppidilettura.it/wp-content/uploads/2025/04/Schermata-2025-04-22-alle-11.13.33.png
END:VEVENT
BEGIN:VEVENT
DTSTART;VALUE=DATE:20250501
DTEND;VALUE=DATE:20250505
DTSTAMP:20260420T051917
CREATED:20250422T091247Z
LAST-MODIFIED:20250422T091247Z
UID:3856-1746057600-1746403199@www.gruppidilettura.it
SUMMARY:Un ponte di libri 2025
DESCRIPTION:Da giovedì 1° maggio a domenica 4 maggio a Gavardo\, in provin ia di Brescia\, all’interno della 67a Festa di Maggio\, “Un ponte di libri” offrirà quattro giorni imperdibili per gli amanti della lettura\, dell’arte\, della cultura e non solo. Tanti gli incontri e avvenimenti che arricchiranno la rassegna.
URL:https://www.gruppidilettura.it/event/un-ponte-di-libri-2025/
ATTACH;FMTTYPE=image/png:https://www.gruppidilettura.it/wp-content/uploads/2025/04/Schermata-2025-04-22-alle-11.11.27.png
END:VEVENT
BEGIN:VEVENT
DTSTART;VALUE=DATE:20250428
DTEND;VALUE=DATE:20250505
DTSTAMP:20260420T051917
CREATED:20250422T081834Z
LAST-MODIFIED:20250422T081834Z
UID:3853-1745798400-1746403199@www.gruppidilettura.it
SUMMARY:Macerata racconta 2025
DESCRIPTION:Il Festival letterario “Macerata Racconta” si svolge abitualmente la prima settimana di maggio con circa 50 eventi tutti gratuiti e ospita autorevoli personalità del panorama nazionale in ambito letterario\, accademico\, scientifico\, giornalistico e artistico.
URL:https://www.gruppidilettura.it/event/macerata-racconta-2025/
ATTACH;FMTTYPE=image/png:https://www.gruppidilettura.it/wp-content/uploads/2025/04/Schermata-2025-04-22-alle-09.46.53.png
END:VEVENT
BEGIN:VEVENT
DTSTART;VALUE=DATE:20250428
DTEND;VALUE=DATE:20250505
DTSTAMP:20260420T051917
CREATED:20250422T074539Z
LAST-MODIFIED:20250422T074539Z
UID:3850-1745798400-1746403199@www.gruppidilettura.it
SUMMARY:Triestebookfest 2025
DESCRIPTION:“L’isola che non c’è” è il titolo scelto per la X edizione del Triestebookfest\, un omaggio all’immaginario di Peter Pan\, ma anche una dichiarazione d’intenti: a Trieste esiste davvero un luogo dove fantasia\, parole e creatività prendono vita. Per una settimana\, da lunedì 28 aprile a domenica 4 maggio (e una continuazione dal 14 al 18 maggio)\, la città si trasforma in un arcipelago di storie e pensieri\, con 45 eventi che vedono protagonisti 42 autrici e autori\, italiani e internazionali\, in dialogo con quasi 30 ambasciatori della cultura locale\, ospitati in 13 diversi luoghi “in giro per Trieste”.
URL:https://www.gruppidilettura.it/event/triestebookfest-2025/
CATEGORIES:Festival,Rassegna letteraria
ATTACH;FMTTYPE=image/png:https://www.gruppidilettura.it/wp-content/uploads/2025/04/Schermata-2025-04-22-alle-09.44.15.png
END:VEVENT
BEGIN:VEVENT
DTSTART;VALUE=DATE:20250422
DTEND;VALUE=DATE:20250426
DTSTAMP:20260420T051917
CREATED:20250422T074330Z
LAST-MODIFIED:20250422T074330Z
UID:3846-1745280000-1745625599@www.gruppidilettura.it
SUMMARY:Fiera del libro di Iglesias
DESCRIPTION:“Chiavi di Volta” è il tema 2025 della Decima edizione della Fiera del Libro di Iglesias.\n\nLa Chiave di Volta\, in architettura\, è l’elemento centrale che permette all’intera struttura di reggersi. Allo stesso modo\, nel contesto culturale e letterario\, rappresenta l’elemento portante di idee\, sistemi di pensiero\, progetti e movimenti.\nIn questa edizione\, quindi esploreremo le “chiavi di volta” nella cultura e nella letteratura: i concetti fondamentali che\, come la pietra che chiude e sorregge l’arco\, reggono e danno senso all’intero sistema.\nUn invito a riflettere sui punti di svolta e sugli elementi essenziali che modellano la nostra conoscenza e il nostro mondo. Ma anche un invito a considerare il libro come elemento cruciale – portante come una chiave di volta – per il benessere e la crescita di una società.
URL:https://www.gruppidilettura.it/event/fiera-del-libro-di-iglesias/
CATEGORIES:Fiera
ATTACH;FMTTYPE=image/png:https://www.gruppidilettura.it/wp-content/uploads/2025/04/Schermata-2025-04-22-alle-09.42.41.png
END:VEVENT
BEGIN:VEVENT
DTSTART;VALUE=DATE:20250411
DTEND;VALUE=DATE:20250414
DTSTAMP:20260420T051917
CREATED:20250108T143407Z
LAST-MODIFIED:20250314T164618Z
UID:2868-1744329600-1744588799@www.gruppidilettura.it
SUMMARY:Un Prato di Libri 2025
DESCRIPTION:Un progetto unico in Italia\, che inizia nel mese di settembre e poi prosegue fino alla fine dell’anno scolastico e che prevede\, in primavera\, un festival della lettura per bambini e ragazzi under 18 con lo scopo di avvicinarli allo straordinario mondo dei libri. \nOggi un Prato di libri è una manifestazione che abbraccia tutto il territorio della Provincia di Prato e oltre. \nIl tema del 2025 sarà “Labirinto”.
URL:https://www.gruppidilettura.it/event/un-prato-di-libri-2025/
LOCATION:Prato
ATTACH;FMTTYPE=image/png:https://www.gruppidilettura.it/wp-content/uploads/2025/01/Schermata-2025-01-08-alle-15.31.33.png
END:VEVENT
BEGIN:VEVENT
DTSTART;VALUE=DATE:20250404
DTEND;VALUE=DATE:20250408
DTSTAMP:20260420T051917
CREATED:20250314T161843Z
LAST-MODIFIED:20250314T164655Z
UID:3703-1743724800-1744070399@www.gruppidilettura.it
SUMMARY:La Storia tra le Righe – Festival di Letteratura Storica
DESCRIPTION:La storia tra le righe è un festival annuale dedicato alla letteratura storica\, che si tiene a Legnano\, in Lombardia. Nato con l’intento di esplorare il passato attraverso la narrativa e la saggistica\, ha creato un’opportunità unica di incontro tra pubblico\, autori\, storici e esperti del settore. \nLa storia tra le righe è ormai diventato un appuntamento fisso per gli appassionati di storia e letteratura\, contribuendo alla promozione della cultura storica e valorizzando il patrimonio locale di Legnano.
URL:https://www.gruppidilettura.it/event/la-storia-tra-le-righe-festival-di-letteratura-storica/
LOCATION:Legnano
ATTACH;FMTTYPE=image/png:https://www.gruppidilettura.it/wp-content/uploads/2025/03/Schermata-2025-03-14-alle-17.17.34.png
END:VEVENT
BEGIN:VEVENT
DTSTART;VALUE=DATE:20250402
DTEND;VALUE=DATE:20250406
DTSTAMP:20260420T051917
CREATED:20250314T164221Z
LAST-MODIFIED:20250314T164944Z
UID:3712-1743552000-1743897599@www.gruppidilettura.it
SUMMARY:Incroci di Civiltà 2025
DESCRIPTION:Torna a Venezia il consueto appuntamento con il festival Incroci di civiltà\, la cui 18° edizione si svolgerà dal 2 al 5Aprile. Il Festival è nato scientificamente all’interno della storica Facoltà di Lingue e Letterature Straniere di Ca’ Foscari ed è poi cresciuto soprattutto nei due Dipartimenti nati da essa\, e ogni anno ospita autori italiani e stranieri.
URL:https://www.gruppidilettura.it/event/incroci-di-civilta-2025/
LOCATION:Venezia
ATTACH;FMTTYPE=image/png:https://www.gruppidilettura.it/wp-content/uploads/2025/03/Schermata-2025-03-14-alle-17.40.23.png
END:VEVENT
BEGIN:VEVENT
DTSTART;VALUE=DATE:20250331
DTEND;VALUE=DATE:20250404
DTSTAMP:20260420T051917
CREATED:20250108T142610Z
LAST-MODIFIED:20250314T165012Z
UID:2865-1743379200-1743724799@www.gruppidilettura.it
SUMMARY:Bologna Children's Book Fair 2025
DESCRIPTION:Dal 31 marzo al 3 aprile 2025\n\n\n\n\n\n\n\n\nDa 61 anni\, Bologna Children’s Book Fair è un evento di riferimento per chi lavora nel campo dell’editoria e dei contenuti dedicati a bambini e ragazzi. BCBF costituisce il punto d’incontro per un pubblico variegato e internazionale\, rappresentando l’evento più importante a livello mondiale per lo scambio dei diritti editoriali\, con un nucleo importante dedicato al licensing e ai contenuti multimediali per bambini e ragazzi. \nL’edizione 2024 ha visto la partecipazione di oltre 1500 espositori in arrivo da circa 100 Paesi e regioni del mondo.
URL:https://www.gruppidilettura.it/event/bologna-childrens-book-fair-2025/
LOCATION:Bologna
ATTACH;FMTTYPE=image/png:https://www.gruppidilettura.it/wp-content/uploads/2025/01/Schermata-2025-01-08-alle-15.23.38.png
END:VEVENT
BEGIN:VEVENT
DTSTART;VALUE=DATE:20250328
DTEND;VALUE=DATE:20250331
DTSTAMP:20260420T051917
CREATED:20250314T161412Z
LAST-MODIFIED:20250314T161412Z
UID:3699-1743120000-1743379199@www.gruppidilettura.it
SUMMARY:Tre Volte Lucy – Rovereto
DESCRIPTION:Il 28\, 29 e 30 marzo\, la rivista online e cartacea Lucy inaugura a Rovereto il suo primo festival\, per dare vita alla rivista dal vivo\, con l’aiuto di autori e autrici\, editori del panorama culturale italiano.
URL:https://www.gruppidilettura.it/event/tre-volte-lucy-rovereto/
LOCATION:Rovereto
ATTACH;FMTTYPE=image/png:https://www.gruppidilettura.it/wp-content/uploads/2025/03/Schermata-2025-03-14-alle-17.12.05.png
END:VEVENT
BEGIN:VEVENT
DTSTART;VALUE=DATE:20250327
DTEND;VALUE=DATE:20250331
DTSTAMP:20260420T051917
CREATED:20250314T161005Z
LAST-MODIFIED:20250314T161005Z
UID:3696-1743033600-1743379199@www.gruppidilettura.it
SUMMARY:Festival Treviso Giallo
DESCRIPTION:Il Festival dedicato ai romanzi gialli che si caratterizza per il peculiare taglio scientifico che lo distingue a livello nazionale ed europeo\, e che vede l’attiva collaborazione con diversi atenei universitari italiani e stranieri per valorizzare e approfondire il genere giallo\, attraverso un approccio teorico in grado di abbracciare unitariamente più discipline e forme di espressione artistica.
URL:https://www.gruppidilettura.it/event/festival-treviso-giallo/
CATEGORIES:Convegno,Festival
ATTACH;FMTTYPE=image/png:https://www.gruppidilettura.it/wp-content/uploads/2025/03/Schermata-2025-03-14-alle-17.09.28.png
END:VEVENT
BEGIN:VEVENT
DTSTART;VALUE=DATE:20250323
DTEND;VALUE=DATE:20250327
DTSTAMP:20260420T051917
CREATED:20250314T163557Z
LAST-MODIFIED:20250314T165207Z
UID:3708-1742688000-1743033599@www.gruppidilettura.it
SUMMARY:Libri Come 2025
DESCRIPTION:Dal 21 al 23 marzo torna a Roma\, all’Auditorium Parco della Musica\, la 16esima edizione di Libri Come\, la festa del Libro e della Lettura\, a cura di Michele De Mieri\, Rosa Polacco e Marino Sinibaldi. Tra gli ospiti: Emmanuel Carrère\, Javier Cercas\, Zarifa Ghafari\, David Grossman\, Ian McEwan\, Valerij Panjuškin\, Daniel Pennac\, Katja Petrowskaja\, Niccolò Ammaniti\, Paolo Giordano\, Loredana Lipperini\, Francesca Mannocchi\, Dacia Maraini\, Melania Mazzucco\, Francesco Piccolo\, Rosella Postorino\, Massimo Recalcati\, Walter Siti\, Chiara Valerio\, Zerocalcare.
URL:https://www.gruppidilettura.it/event/libri-come-2025-roma/
LOCATION:Roma
ATTACH;FMTTYPE=image/png:https://www.gruppidilettura.it/wp-content/uploads/2025/03/Schermata-2025-03-14-alle-17.35.23.png
END:VEVENT
BEGIN:VEVENT
DTSTART;VALUE=DATE:20250321
DTEND;VALUE=DATE:20250324
DTSTAMP:20260420T051917
CREATED:20250108T142244Z
LAST-MODIFIED:20250314T165137Z
UID:2861-1742515200-1742774399@www.gruppidilettura.it
SUMMARY:Book Pride Milano 2025
DESCRIPTION:Torna dal 21 al 23 marzo 2025 la fiera dell’editoria indipendente e anche questa edizione si svolgerà al Superstudio Maxi.
URL:https://www.gruppidilettura.it/event/book-pride-milano-2025/
LOCATION:Milano
ATTACH;FMTTYPE=image/png:https://www.gruppidilettura.it/wp-content/uploads/2025/01/Schermata-2025-01-08-alle-15.21.46.png
END:VEVENT
END:VCALENDAR