BEGIN:VCALENDAR
VERSION:2.0
PRODID:-//www.gruppidilettura.it - ECPv6.15.20//NONSGML v1.0//EN
CALSCALE:GREGORIAN
METHOD:PUBLISH
X-ORIGINAL-URL:https://www.gruppidilettura.it
X-WR-CALDESC:Eventi per www.gruppidilettura.it
REFRESH-INTERVAL;VALUE=DURATION:PT1H
X-Robots-Tag:noindex
X-PUBLISHED-TTL:PT1H
BEGIN:VTIMEZONE
TZID:Europe/Rome
BEGIN:DAYLIGHT
TZOFFSETFROM:+0100
TZOFFSETTO:+0200
TZNAME:CEST
DTSTART:20250330T010000
END:DAYLIGHT
BEGIN:STANDARD
TZOFFSETFROM:+0200
TZOFFSETTO:+0100
TZNAME:CET
DTSTART:20251026T010000
END:STANDARD
BEGIN:DAYLIGHT
TZOFFSETFROM:+0100
TZOFFSETTO:+0200
TZNAME:CEST
DTSTART:20260329T010000
END:DAYLIGHT
BEGIN:STANDARD
TZOFFSETFROM:+0200
TZOFFSETTO:+0100
TZNAME:CET
DTSTART:20261025T010000
END:STANDARD
BEGIN:DAYLIGHT
TZOFFSETFROM:+0100
TZOFFSETTO:+0200
TZNAME:CEST
DTSTART:20270328T010000
END:DAYLIGHT
BEGIN:STANDARD
TZOFFSETFROM:+0200
TZOFFSETTO:+0100
TZNAME:CET
DTSTART:20271031T010000
END:STANDARD
END:VTIMEZONE
BEGIN:VEVENT
DTSTART;VALUE=DATE:20260326
DTEND;VALUE=DATE:20260330
DTSTAMP:20260420T021210
CREATED:20260225T114959Z
LAST-MODIFIED:20260225T114959Z
UID:4723-1774483200-1774828799@www.gruppidilettura.it
SUMMARY:Eventi Letterari Monte Verità
DESCRIPTION:È disponibile il programma del festival Eventi letterari Monte Verità\, giunto quest’anno alla 14ª edizione. Sotto il segno della canzone di Leonard Cohen Dance Me to the End of Love\, i temi della danza e dell’erotismo\, dell’amore e della morte si intrecciano dando vita a un intenso percorso letterario e performativo. Il festival riunisce autrici e autori di fama internazionale come Eva Illouz\, Navid Kermani\, Lukas Bärfuss\, Terézia Mora\, Emanuele Trevi e molte altre voci della letteratura contemporanea. Le giornate letterarie\, curate da Stefan Zweifel\, si svolgeranno dal 26 al 29 marzo 2026 ad Ascona e Locarno. \nProgramma sul sito https://eventiletterari.ch/it/program/
URL:https://www.gruppidilettura.it/event/eventi-letterari-monte-verita/
LOCATION:Canton Ticino\, Switzerland
CATEGORIES:Festival
ATTACH;FMTTYPE=image/jpeg:https://www.gruppidilettura.it/wp-content/uploads/2026/02/EL-26-Poster-1920x1080-1.jpg
END:VEVENT
BEGIN:VEVENT
DTSTART;VALUE=DATE:20260330
DTEND;VALUE=DATE:20260413
DTSTAMP:20260420T021210
CREATED:20260402T123016Z
LAST-MODIFIED:20260402T123016Z
UID:4813-1774828800-1776038399@www.gruppidilettura.it
SUMMARY:Un Prato di libri
DESCRIPTION:Torna a Prato il festival della lettura per bambine\, bambini\, ragazze e ragazzi nella provincia di Prato. \nI giorni centrali del festival Un Prato di libri saranno il 10\, 11 e 12 aprile. Scopri il programma.
URL:https://www.gruppidilettura.it/event/un-prato-di-libri/
LOCATION:Prato
CATEGORIES:Festival
ATTACH;FMTTYPE=image/png:https://www.gruppidilettura.it/wp-content/uploads/2026/04/prato-di-libri.png
END:VEVENT
BEGIN:VEVENT
DTSTART;VALUE=DATE:20260407
DTEND;VALUE=DATE:20260413
DTSTAMP:20260420T021210
CREATED:20260403T154033Z
LAST-MODIFIED:20260403T154033Z
UID:4857-1775520000-1776038399@www.gruppidilettura.it
SUMMARY:Ponte di parole
DESCRIPTION:A Pontedera\, dal 7 al 12 aprile\, si terrà la quinta edizione di Ponte di parole\, il festival letterario che unisce pagine\, idee e incontri. \nSei giorni di dialoghi\, visioni e storie capaci di lasciare traccia. Sei giorni in cui la città si fa spazio di confronto\, ascolto e immaginazione. \nScopri il programma completo.
URL:https://www.gruppidilettura.it/event/ponte-di-parole/
CATEGORIES:Festival
ATTACH;FMTTYPE=image/png:https://www.gruppidilettura.it/wp-content/uploads/2026/04/ponte-di-parole.png
END:VEVENT
BEGIN:VEVENT
DTSTART;VALUE=DATE:20260409
DTEND;VALUE=DATE:20260413
DTSTAMP:20260420T021210
CREATED:20260402T131244Z
LAST-MODIFIED:20260402T131244Z
UID:4827-1775692800-1776038399@www.gruppidilettura.it
SUMMARY:Romics
DESCRIPTION:Dal 9 al 12 aprile a Fiera Roma è previsto Romics 36\, il Festival Internazionale del Fumetto\, Animazione\, Cinema e Games. Biglietti e informazioni su www.romics.it.
URL:https://www.gruppidilettura.it/event/romics-2/
LOCATION:Fiera Roma\, Roma
CATEGORIES:Festival
ATTACH;FMTTYPE=image/jpeg:https://www.gruppidilettura.it/wp-content/uploads/2026/04/logo-romics-2026-it.jpg
END:VEVENT
BEGIN:VEVENT
DTSTART;VALUE=DATE:20260410
DTEND;VALUE=DATE:20260411
DTSTAMP:20260420T021210
CREATED:20260402T124124Z
LAST-MODIFIED:20260402T124124Z
UID:4816-1775779200-1775865599@www.gruppidilettura.it
SUMMARY:Ritratti di poesia
DESCRIPTION:Il 10 aprile all’Auditorium Conciliazione di Roma si terrà la 19esima edizione di Ritratti di Poesia. \nLa manifestazione “intende contribuire alla diffusione più ampia possibile della poesia contemporanea“. \nScopri il programma sul sito.
URL:https://www.gruppidilettura.it/event/ritratti-di-poesia/
LOCATION:Roma
CATEGORIES:Raduno
ATTACH;FMTTYPE=image/jpeg:https://www.gruppidilettura.it/wp-content/uploads/2026/04/ritratti-di-poesia_edizione-xix.jpg
END:VEVENT
BEGIN:VEVENT
DTSTART;VALUE=DATE:20260410
DTEND;VALUE=DATE:20260413
DTSTAMP:20260420T021210
CREATED:20260402T124702Z
LAST-MODIFIED:20260402T124702Z
UID:4820-1775779200-1776038399@www.gruppidilettura.it
SUMMARY:Libro aperto
DESCRIPTION:Libro Aperto – Festival della Letteratura per Ragazzi è in programma dal 10 al 12 di aprile a Baronissi (Salerno). \nI giovani lettori saranno immersi in laboratori creativi\, masterclass\, spettacoli e incontri con gli autori dei libri in gara. \nScopri il programma su libroapertofestival.it
URL:https://www.gruppidilettura.it/event/libro-aperto-2/
LOCATION:Baronissi (SA)\, Italy
CATEGORIES:Festival
ATTACH;FMTTYPE=image/png:https://www.gruppidilettura.it/wp-content/uploads/2026/04/libro-aperto.png
END:VEVENT
BEGIN:VEVENT
DTSTART;VALUE=DATE:20260410
DTEND;VALUE=DATE:20260413
DTSTAMP:20260420T021210
CREATED:20260402T131913Z
LAST-MODIFIED:20260402T131913Z
UID:4830-1775779200-1776038399@www.gruppidilettura.it
SUMMARY:La storia tra le righe – Festival di letteratura storica
DESCRIPTION:Dal 10 al 12 aprile si terrà la quarta edizione di La storia tra le righe – Festival di letteratura storica di Legnano: incontri ed eventi (tutti gratuiti)\, nell’anno dell’850esimo anniversario della Battaglia di Legnano. \nNel programma presenti (tra gli altri) Stefania Auci\, Barbara Bellomo\, Gaja Cenciarelli\, Luigi Barnaba Frigoli\, Livio Gambarini\, Luca Mercalli\, Brunella Schisa\, Serena Romano\, Paolo Roversi\, Marco Tabilio\, Alessandro Vanoli. \nTutte le informazioni sul sito lastoriatralerighe.fondazionepalio.org
URL:https://www.gruppidilettura.it/event/la-storia-tra-le-righe-festival-di-letteratura-storica-2/
LOCATION:Legnano
CATEGORIES:Festival
ATTACH;FMTTYPE=image/png:https://www.gruppidilettura.it/wp-content/uploads/2026/04/storia-tra-le-righe-2026.png
END:VEVENT
BEGIN:VEVENT
DTSTART;VALUE=DATE:20260413
DTEND;VALUE=DATE:20260417
DTSTAMP:20260420T021210
CREATED:20260402T125847Z
LAST-MODIFIED:20260402T125847Z
UID:4824-1776038400-1776383999@www.gruppidilettura.it
SUMMARY:Bologna Children’s Book Fair - Fiera del libro per ragazzi di Bologna
DESCRIPTION:Bologna Children’s Book Fair (BCBF) è il principale appuntamento professionale al mondo dedicato all’editoria per bambini e ragazzi. \nLa 63esima edizione è in programma dal 13 al 16 aprile. \nScopri il programma sul sito Bolognachildrensbookfair.com.
URL:https://www.gruppidilettura.it/event/bologna-childrens-book-fair-fiera-del-libro-per-ragazzi-di-bologna/
LOCATION:Bologna
CATEGORIES:Fiera
ATTACH;FMTTYPE=image/png:https://www.gruppidilettura.it/wp-content/uploads/2026/04/logo_BCBF_horiz.png
END:VEVENT
BEGIN:VEVENT
DTSTART;VALUE=DATE:20260415
DTEND;VALUE=DATE:20260419
DTSTAMP:20260420T021210
CREATED:20260402T133733Z
LAST-MODIFIED:20260402T133733Z
UID:4836-1776211200-1776556799@www.gruppidilettura.it
SUMMARY:Incroci di civiltà
DESCRIPTION:Dal 15 al 18 aprile si tiene a Venezia la 19esima edizione di Incroci di Civiltà\, Festival Internazionale di Letteratura. \nProgramma e aggiornamenti sul sito della manifestazione.
URL:https://www.gruppidilettura.it/event/incroci-di-civilta-2/
LOCATION:Venezia
CATEGORIES:Festival
ATTACH;FMTTYPE=image/png:https://www.gruppidilettura.it/wp-content/uploads/2026/04/incroci-2026-800x800-1.png
END:VEVENT
BEGIN:VEVENT
DTSTART;VALUE=DATE:20260415
DTEND;VALUE=DATE:20260419
DTSTAMP:20260420T021210
CREATED:20260402T134654Z
LAST-MODIFIED:20260402T134654Z
UID:4839-1776211200-1776556799@www.gruppidilettura.it
SUMMARY:Festival internazionale del giornalismo
DESCRIPTION:Dal 15 al 18 aprile si tiene a Perugia il Festival Internazionale del Giornalismo\, il più grande evento annuale in Europa dedicato ai media. Nell’edizione del 2025 c’erano 214 eventi e 580 relatori nel programma. \nTutti gli eventi sono ad ingresso libero per chiunque voglia partecipare\, senza necessità di registrarsi. L’accesso a tutti gli eventi si basa sul criterio di chi arriva prima. Per garantirti la partecipazione\, dovrai arrivare all’evento molto prima dell’inizio. \nScopri il programma su festivaldelgiornalismo.com
URL:https://www.gruppidilettura.it/event/festival-internazionale-del-giornalismo/
LOCATION:Perugia\, Italy
CATEGORIES:Festival
ATTACH;FMTTYPE=image/jpeg:https://www.gruppidilettura.it/wp-content/uploads/2026/04/header-ijf26_20th_IT.jpg
END:VEVENT
BEGIN:VEVENT
DTSTART;VALUE=DATE:20260416
DTEND;VALUE=DATE:20260420
DTSTAMP:20260420T021210
CREATED:20260403T134446Z
LAST-MODIFIED:20260403T134636Z
UID:4843-1776297600-1776643199@www.gruppidilettura.it
SUMMARY:Chronicae
DESCRIPTION:Chronicae – Festival Internazionale del Romanzo Storico\, manifestazione diretta dallo scrittore Matteo Strukul\, si terrà al Teatro Filarmonico di Piove di Sacco (Padova)\, dal 16 al 19 aprile. \nTra gli ospiti delle scorse edizioni (nel 2026 si terrà la dodicesima) ricordiamo Conn Iggulden\, Melania G. Mazzucco\, Antonio Scurati\, Marcello Simoni e molti altri. \nInfo su www.festivalromanzostorico.it
URL:https://www.gruppidilettura.it/event/chronicae/
LOCATION:Piove di Sacco (PD)\, Italy
CATEGORIES:Festival
ATTACH;FMTTYPE=image/png:https://www.gruppidilettura.it/wp-content/uploads/2026/04/chronicae.png
END:VEVENT
BEGIN:VEVENT
DTSTART;VALUE=DATE:20260418
DTEND;VALUE=DATE:20260419
DTSTAMP:20260420T021210
CREATED:20260403T154827Z
LAST-MODIFIED:20260403T154827Z
UID:4860-1776470400-1776556799@www.gruppidilettura.it
SUMMARY:Premio Costa Smeralda
DESCRIPTION:Sono stati annunciati le terne finaliste\, per le categorie Narrativa e Saggistica\, e i Premi Internazionale e Speciale del Premio Costa Smeralda 2026\, giunto quest’anno alla sua settima edizione. \nPer la Narrativa: Niccolò Ammaniti\, Paola Barbato e Dario Ferrari; per la Saggistica: Edoardo Camurri\, Adriana Cavarero e Andrea Moro. \nI vincitori assoluti per Narrativa e Saggistica saranno proclamati sabato 18 aprile durante la cerimonia pubblica di premiazione al Conference Center di Porto Cervo. Sabato 18 aprile verranno inoltre assegnati il Premio Internazionale a Javier Cercas e il Premio Speciale al Comandante Giuseppe Lai. \nDettagli sul sito.
URL:https://www.gruppidilettura.it/event/premio-costa-smeralda/
LOCATION:Porto Cervo\, Italy
CATEGORIES:Premio letterario
ATTACH;FMTTYPE=image/png:https://www.gruppidilettura.it/wp-content/uploads/2026/04/Logo_PCS-2026.png
END:VEVENT
BEGIN:VEVENT
DTSTART;VALUE=DATE:20260418
DTEND;VALUE=DATE:20260504
DTSTAMP:20260420T021210
CREATED:20260403T155446Z
LAST-MODIFIED:20260403T155446Z
UID:4864-1776470400-1777852799@www.gruppidilettura.it
SUMMARY:Fiera dei librai Bergamo
DESCRIPTION:Dal 18 aprile al 3 maggio\, a Bergamo si terrà la 67esima edizione della Fiera dei Librai Bergamo. \nLa manifestazione trasforma il Sentierone\, situato nel centro della città\, in una libreria a cielo aperto\, con incontri gratuiti con autori e autrici\, eventi per il pubblico e attività per i più giovani. \nLe informazioni sul programma sono sul sito.
URL:https://www.gruppidilettura.it/event/fiera-dei-librai-bergamo/
LOCATION:Bergamo\, Italy
CATEGORIES:Fiera
ATTACH;FMTTYPE=image/png:https://www.gruppidilettura.it/wp-content/uploads/2026/04/fiera-librai-BG.png
END:VEVENT
BEGIN:VEVENT
DTSTART;VALUE=DATE:20260420
DTEND;VALUE=DATE:20260421
DTSTAMP:20260420T021210
CREATED:20260403T144442Z
LAST-MODIFIED:20260403T144442Z
UID:4852-1776643200-1776729599@www.gruppidilettura.it
SUMMARY:Premio Wondy
DESCRIPTION:A Milano\, presso il Teatro Manzoni\, il 20 aprile si terrà la premiazione del Premio Wondy per la Letteratura Resiliente\, giunto alla nona edizione. \nIl progetto è nato nel 2018 in memoria della giornalista e scrittrice Francesca Del Rosso (1974-2016)\, conosciuta con il soprannome Wondy e autrice del volume Wondy – ovvero come si diventa supereroi per guarire dal cancro (Rizzoli\, 2014) nel quale ha raccontato con ironia e coraggio come ha affrontato la malattia. Da solo di Novita Amadei\, L’alba della nostra libertà di Barbara Cagni\, Casa dolce casa di Andrea Kerbaker\, Cartagloria di Rosa Matteucci\, Lo sbilico di Alcide Pierantozzi compongono la sestina selezionata dal Comitato Promotore. \nTutte le informazioni sul sito.
URL:https://www.gruppidilettura.it/event/premio-wondy/
LOCATION:Milano
CATEGORIES:Premio letterario
ATTACH;FMTTYPE=image/png:https://www.gruppidilettura.it/wp-content/uploads/2026/04/WondySonoIo-1000x206_logo.png
END:VEVENT
BEGIN:VEVENT
DTSTART;VALUE=DATE:20260420
DTEND;VALUE=DATE:20260425
DTSTAMP:20260420T021210
CREATED:20260403T160125Z
LAST-MODIFIED:20260403T160125Z
UID:4868-1776643200-1777075199@www.gruppidilettura.it
SUMMARY:Pollicino Bookfest
DESCRIPTION:A Castrovillari (Cosenza)\, dal 20 al 24 aprile\, torna Pollicino Bookfest\, manifestazione dedicata alla letteratura per bambine e bambini\, ragazze e ragazzi che ci terrà ai piedi del Parco Nazionale del Pollino. \nIl festival prevede diversi ospiti. Programma e informazioni sul sito pollicinobookfest.it
URL:https://www.gruppidilettura.it/event/pollicino-bookfest/
LOCATION:Castrovillari (CS)\, Italy
CATEGORIES:Festival
ATTACH;FMTTYPE=image/jpeg:https://www.gruppidilettura.it/wp-content/uploads/2026/04/pbf-header.jpg
END:VEVENT
BEGIN:VEVENT
DTSTART;VALUE=DATE:20260422
DTEND;VALUE=DATE:20260426
DTSTAMP:20260420T021210
CREATED:20260402T133258Z
LAST-MODIFIED:20260402T133258Z
UID:4833-1776816000-1777161599@www.gruppidilettura.it
SUMMARY:Fiera del Libro di Iglesias
DESCRIPTION:Dal 22 al 25 aprile\, in Sardegna\, è prevista l’undicesima edizione della Fiera del Libro di Iglesias\, con tema Naviganti: “un viaggio tra rotte reali e simboliche che comprende incontri con autori\, laboratori per gli istituti scolastici partner\, panel\, mostre tematiche e una giornata speciale dedicata all’universo letterario di Harry Potter”. \nTutte le informazioni su www.fieralibroiglesias.it
URL:https://www.gruppidilettura.it/event/fiera-del-libro-di-iglesias-2/
LOCATION:Iglesias
CATEGORIES:Fiera
ATTACH;FMTTYPE=image/png:https://www.gruppidilettura.it/wp-content/uploads/2026/04/fiera-iglesias.png
END:VEVENT
BEGIN:VEVENT
DTSTART;TZID=Europe/Rome:20260507T080000
DTEND;TZID=Europe/Rome:20260509T183000
DTSTAMP:20260420T021210
CREATED:20260413T104246Z
LAST-MODIFIED:20260413T104741Z
UID:4889-1778140800-1778351400@www.gruppidilettura.it
SUMMARY:CaorlèFumetto 2026
DESCRIPTION:Il mare\, il centro storico di Caorle e… tantissimi fumetti!Dal 7 al 9 maggio torna CaorlÈ Fumetto\, per un’edizione spumeggiante\, ricca di eventi per tutte le età.Tre giorni di fantasia\, creatività e condivisione con: Mostre e talk Laboratori creativi per bambini e workshop di manga Ospiti speciali e incontri con autori Disney… e altre sorprese in programma!Scopri di più: https://onlycomics.it/eventi/caorle-fumetto-2026/Segnate le date\, spargete la voce e iniziate il conto alla rovescia con noi.Ci vediamo a Caorle: sarete dei nostri? \nBIBLIOTECA CIVICA DI CAORLE \nPiazza Matteotti 3 – 30021 CAORLE (0421/219255) \nseguici sui nostri social: https://www.facebook.com/BibliotecaCaorle/ e https://www.instagram.com/biblioteca_caorle/ \n\n← Precedente Grazie per la risposta. ✨\n\n\n					\n						\n							\n							\n						\n						\n						\n						\n						\n							\n								\n									\n										\n										\n									\n									\n										\n										\n									\n								\n							\n						\n						\n							\n								\n									\n									\n										\n									\n									\n									\n								\n							\n						\n					\n				\n\n\n\nNome(obbligatorio)\n\n \n			\n				\n					\n						\n						\n						\n					\n				\n				\n			 \n	\n\n\nEmail(obbligatorio)\n\n \n			\n				\n					\n						\n						\n						\n					\n				\n				\n			 \n	\n\n\nSito web\n\n \n			\n				\n					\n						\n						\n						\n					\n				\n				\n			 \n	\n\n\nMessaggio\n\n \n			\n				\n					\n						\n						\n						\n					\n				\n				\n			\n	\n	\n\n				\n					\n				\n						Invia
URL:https://www.gruppidilettura.it/event/caorlefumetto-2026/
CATEGORIES:Festival
ORGANIZER;CN="Biblioteca Civica di Caorle":MAILTO:biblioteca@comune.caorle.ve.it
END:VEVENT
BEGIN:VEVENT
DTSTART;VALUE=DATE:20260530
DTEND;VALUE=DATE:20260531
DTSTAMP:20260420T021210
CREATED:20260403T140241Z
LAST-MODIFIED:20260403T144708Z
UID:4849-1780099200-1780185599@www.gruppidilettura.it
SUMMARY:Torino comics
DESCRIPTION:Torino Comics\, dal 1994 punto di riferimento nazionale per gli amanti della cultura pop\, quest’anno si tiene presso la Certosa di Collegno e il parco Dalla Chiesa dal 30 maggio al 1° giugno. \nLa XXX edizione conferma il percorso evolutivo già annunciato: Torino Comics diventa un grande festival outdoor\, con un format più aperto\, accessibile e inclusivo. \nL’area commerciale – con stand dedicati a gadget\, oggettistica\, carte collezionabili\, magliette\, accessori e prodotti legati alla cultura pop – sarà a ingresso gratuito e aperta a tutti. \nIl biglietto darà invece accesso alle aree culturali e ai contenuti di eccellenza che rappresentano il cuore del progetto: area autori\, mostre tematiche\, competizioni cosplay internazionali\, l’area dedicata al fumetto erotico\, concerti ed eventi sul main stage\, talk e incontri con autori e ospiti. \nCon il biglietto\, inoltre\, al momento dell’accesso verrà consegnato un braccialetto personale che consentirà di entrare e uscire liberamente dalle aree del festival per tutta la giornata. \nAltra importante novità è relativa all’Artist Alley\, lo spazio dedicato ai fumettisti\, illustratori e disegnatori indipendenti: per la XXX edizione la partecipazione all’area sarà gratuita per gli artisti. \nTutte le informazioni su torinocomics.it
URL:https://www.gruppidilettura.it/event/torino-comics/
LOCATION:Torino
CATEGORIES:Festival,Fiera
ATTACH;FMTTYPE=image/png:https://www.gruppidilettura.it/wp-content/uploads/2026/04/manifesto-evidenza-rjdzlbzjtc7rxggtyxew2qabs9u2ynz829fxpvwd4g.png
END:VEVENT
END:VCALENDAR