BEGIN:VCALENDAR
VERSION:2.0
PRODID:-//www.gruppidilettura.it - ECPv6.15.20//NONSGML v1.0//EN
CALSCALE:GREGORIAN
METHOD:PUBLISH
X-ORIGINAL-URL:https://www.gruppidilettura.it
X-WR-CALDESC:Eventi per www.gruppidilettura.it
REFRESH-INTERVAL;VALUE=DURATION:PT1H
X-Robots-Tag:noindex
X-PUBLISHED-TTL:PT1H
BEGIN:VTIMEZONE
TZID:Europe/Rome
BEGIN:DAYLIGHT
TZOFFSETFROM:+0100
TZOFFSETTO:+0200
TZNAME:CEST
DTSTART:20220327T010000
END:DAYLIGHT
BEGIN:STANDARD
TZOFFSETFROM:+0200
TZOFFSETTO:+0100
TZNAME:CET
DTSTART:20221030T010000
END:STANDARD
BEGIN:DAYLIGHT
TZOFFSETFROM:+0100
TZOFFSETTO:+0200
TZNAME:CEST
DTSTART:20230326T010000
END:DAYLIGHT
BEGIN:STANDARD
TZOFFSETFROM:+0200
TZOFFSETTO:+0100
TZNAME:CET
DTSTART:20231029T010000
END:STANDARD
BEGIN:DAYLIGHT
TZOFFSETFROM:+0100
TZOFFSETTO:+0200
TZNAME:CEST
DTSTART:20240331T010000
END:DAYLIGHT
BEGIN:STANDARD
TZOFFSETFROM:+0200
TZOFFSETTO:+0100
TZNAME:CET
DTSTART:20241027T010000
END:STANDARD
BEGIN:DAYLIGHT
TZOFFSETFROM:+0100
TZOFFSETTO:+0200
TZNAME:CEST
DTSTART:20250330T010000
END:DAYLIGHT
BEGIN:STANDARD
TZOFFSETFROM:+0200
TZOFFSETTO:+0100
TZNAME:CET
DTSTART:20251026T010000
END:STANDARD
END:VTIMEZONE
BEGIN:VEVENT
DTSTART;VALUE=DATE:20240408
DTEND;VALUE=DATE:20240412
DTSTAMP:20260419T235227
CREATED:20240409T095349Z
LAST-MODIFIED:20240409T095902Z
UID:2406-1712534400-1712879999@www.gruppidilettura.it
SUMMARY:Bologna Children’s Book Fair
DESCRIPTION:Torna il più importante appuntamento professionale al mondo dedicato all’editoria per bambini e ragazzi\, nel 2024 giunto alla sua 61ª edizione.
URL:https://www.gruppidilettura.it/event/bologna-childrens-book-fair/
LOCATION:Bologna
CATEGORIES:Fiera,Mostra
ATTACH;FMTTYPE=image/png:https://www.gruppidilettura.it/wp-content/uploads/2024/04/Schermata-2024-04-09-alle-11.52.08.png
END:VEVENT
BEGIN:VEVENT
DTSTART;VALUE=DATE:20231116
DTEND;VALUE=DATE:20240125
DTSTAMP:20260419T235227
CREATED:20231204T105507Z
LAST-MODIFIED:20231204T110849Z
UID:2065-1700092800-1706140799@www.gruppidilettura.it
SUMMARY:Tolkien. Uomo\, Professore\, Autore
DESCRIPTION:A cinquant’anni dalla scomparsa e dalla prima edizione italiana de Lo Hobbit\, Roma ospita dal 16 novembre all’11 febbraio 2024 alla Galleria Nazionale d’Arte Moderna e Contemporanea la mostra dedicata a John Ronald Reuel Tolkien\, uno degli autori più influenti del Novecento.
URL:https://www.gruppidilettura.it/event/tolkien-uomo-professore-autore/
LOCATION:Galleria Nazionale\, Viale delle Belle Arti\, 131\, Roma\, Italia
CATEGORIES:Mostra
ATTACH;FMTTYPE=image/png:https://www.gruppidilettura.it/wp-content/uploads/2023/12/Schermata-2023-12-04-alle-11.13.45.png
END:VEVENT
BEGIN:VEVENT
DTSTART;VALUE=DATE:20231007
DTEND;VALUE=DATE:20231009
DTSTAMP:20260419T235227
CREATED:20231001T144823Z
LAST-MODIFIED:20231001T144835Z
UID:1721-1696636800-1696809599@www.gruppidilettura.it
SUMMARY:Libri in cantina. Mostra nazionale della piccola e media editoria
DESCRIPTION:Sabato 7 e domenica 8 ottobre a Susegana (Treviso) la 19esima edizione di Libri in cantina. Mostra nazionale della piccola e media editoria: una vetrina per la piccola e media editoria\, ospitata dal Castello di San Salvatore.
URL:https://www.gruppidilettura.it/event/libri-in-cantina-mostra-nazionale-della-piccola-e-media-editoria/
LOCATION:Castello San Salvatore\, Susegrana
CATEGORIES:Mostra
ATTACH;FMTTYPE=image/png:https://www.gruppidilettura.it/wp-content/uploads/2023/10/logo_libri-in-cantina_mobile.png
END:VEVENT
END:VCALENDAR