BEGIN:VCALENDAR
VERSION:2.0
PRODID:-//www.gruppidilettura.it - ECPv6.15.20//NONSGML v1.0//EN
CALSCALE:GREGORIAN
METHOD:PUBLISH
X-ORIGINAL-URL:https://www.gruppidilettura.it
X-WR-CALDESC:Eventi per www.gruppidilettura.it
REFRESH-INTERVAL;VALUE=DURATION:PT1H
X-Robots-Tag:noindex
X-PUBLISHED-TTL:PT1H
BEGIN:VTIMEZONE
TZID:Europe/Rome
BEGIN:DAYLIGHT
TZOFFSETFROM:+0100
TZOFFSETTO:+0200
TZNAME:CEST
DTSTART:20250330T010000
END:DAYLIGHT
BEGIN:STANDARD
TZOFFSETFROM:+0200
TZOFFSETTO:+0100
TZNAME:CET
DTSTART:20251026T010000
END:STANDARD
BEGIN:DAYLIGHT
TZOFFSETFROM:+0100
TZOFFSETTO:+0200
TZNAME:CEST
DTSTART:20260329T010000
END:DAYLIGHT
BEGIN:STANDARD
TZOFFSETFROM:+0200
TZOFFSETTO:+0100
TZNAME:CET
DTSTART:20261025T010000
END:STANDARD
BEGIN:DAYLIGHT
TZOFFSETFROM:+0100
TZOFFSETTO:+0200
TZNAME:CEST
DTSTART:20270328T010000
END:DAYLIGHT
BEGIN:STANDARD
TZOFFSETFROM:+0200
TZOFFSETTO:+0100
TZNAME:CET
DTSTART:20271031T010000
END:STANDARD
END:VTIMEZONE
BEGIN:VEVENT
DTSTART;VALUE=DATE:20260227
DTEND;VALUE=DATE:20260302
DTSTAMP:20260419T220006
CREATED:20251223T174150Z
LAST-MODIFIED:20251223T174507Z
UID:4531-1772150400-1772409599@www.gruppidilettura.it
SUMMARY:TESTO [Come si diventa un libro]
DESCRIPTION:Dal 27 febbraio all’1 marzo 2026 la Stazione Leopolda di Firenze ospiterà la quinta edizione di TESTO [Come si diventa un libro]. Tra gli ospiti\, Arturo Pérez-Reverte e Yasmina Reza. In programma l’omaggio a Richard Yates. \nL’evento – che quest’anno è dedicato al tema dell’estro\, è organizzato da Pitti Immagine in collaborazione con Stazione Leopolda e ideato da Todo Modo. \nConsulta il programma completo.
URL:https://www.gruppidilettura.it/event/testo-come-si-diventa-un-libro-2/
LOCATION:Firenze
CATEGORIES:Fiera
ATTACH;FMTTYPE=image/webp:https://www.gruppidilettura.it/wp-content/uploads/2025/12/Testo-locandina-333x533.jpg.webp
END:VEVENT
END:VCALENDAR