BEGIN:VCALENDAR
VERSION:2.0
PRODID:-//www.gruppidilettura.it - ECPv6.15.20//NONSGML v1.0//EN
CALSCALE:GREGORIAN
METHOD:PUBLISH
X-ORIGINAL-URL:https://www.gruppidilettura.it
X-WR-CALDESC:Eventi per www.gruppidilettura.it
REFRESH-INTERVAL;VALUE=DURATION:PT1H
X-Robots-Tag:noindex
X-PUBLISHED-TTL:PT1H
BEGIN:VTIMEZONE
TZID:Europe/Rome
BEGIN:DAYLIGHT
TZOFFSETFROM:+0100
TZOFFSETTO:+0200
TZNAME:CEST
DTSTART:20250330T010000
END:DAYLIGHT
BEGIN:STANDARD
TZOFFSETFROM:+0200
TZOFFSETTO:+0100
TZNAME:CET
DTSTART:20251026T010000
END:STANDARD
BEGIN:DAYLIGHT
TZOFFSETFROM:+0100
TZOFFSETTO:+0200
TZNAME:CEST
DTSTART:20260329T010000
END:DAYLIGHT
BEGIN:STANDARD
TZOFFSETFROM:+0200
TZOFFSETTO:+0100
TZNAME:CET
DTSTART:20261025T010000
END:STANDARD
BEGIN:DAYLIGHT
TZOFFSETFROM:+0100
TZOFFSETTO:+0200
TZNAME:CEST
DTSTART:20270328T010000
END:DAYLIGHT
BEGIN:STANDARD
TZOFFSETFROM:+0200
TZOFFSETTO:+0100
TZNAME:CET
DTSTART:20271031T010000
END:STANDARD
END:VTIMEZONE
BEGIN:VEVENT
DTSTART;VALUE=DATE:20260221
DTEND;VALUE=DATE:20260223
DTSTAMP:20260419T232903
CREATED:20260128T112410Z
LAST-MODIFIED:20260128T112449Z
UID:4628-1771632000-1771804799@www.gruppidilettura.it
SUMMARY:Oblivion – Fiera del libro\, del fumetto e dell’irrazionale
DESCRIPTION:Il 21 e 22 febbraio a Roma (alla Città dell’Altra Economia) torna Oblivion – Fiera del libro\, del fumetto e dell’irrazionale\, con una selezione di alcuni editori indipendenti del panorama fantastico\, horror\, fantascientifico e weird. Gli organizzatori puntano sull’approccio “partecipativo”\, sulla “cultura dal basso”\, mantenendo la manifestazione (a ingresso gratuito) “a misura di comunità”. I particolari sul sito.
URL:https://www.gruppidilettura.it/event/oblivion-fiera-del-libro-del-fumetto-e-dellirrazionale-2/
LOCATION:Roma
CATEGORIES:Fiera
ATTACH;FMTTYPE=image/jpeg:https://www.gruppidilettura.it/wp-content/uploads/2026/01/oblivion.jpg
END:VEVENT
END:VCALENDAR