BEGIN:VCALENDAR
VERSION:2.0
PRODID:-//www.gruppidilettura.it - ECPv6.15.20//NONSGML v1.0//EN
CALSCALE:GREGORIAN
METHOD:PUBLISH
X-WR-CALNAME:www.gruppidilettura.it
X-ORIGINAL-URL:https://www.gruppidilettura.it
X-WR-CALDESC:Eventi per www.gruppidilettura.it
REFRESH-INTERVAL;VALUE=DURATION:PT1H
X-Robots-Tag:noindex
X-PUBLISHED-TTL:PT1H
BEGIN:VTIMEZONE
TZID:Europe/Rome
BEGIN:DAYLIGHT
TZOFFSETFROM:+0100
TZOFFSETTO:+0200
TZNAME:CEST
DTSTART:20250330T010000
END:DAYLIGHT
BEGIN:STANDARD
TZOFFSETFROM:+0200
TZOFFSETTO:+0100
TZNAME:CET
DTSTART:20251026T010000
END:STANDARD
BEGIN:DAYLIGHT
TZOFFSETFROM:+0100
TZOFFSETTO:+0200
TZNAME:CEST
DTSTART:20260329T010000
END:DAYLIGHT
BEGIN:STANDARD
TZOFFSETFROM:+0200
TZOFFSETTO:+0100
TZNAME:CET
DTSTART:20261025T010000
END:STANDARD
BEGIN:DAYLIGHT
TZOFFSETFROM:+0100
TZOFFSETTO:+0200
TZNAME:CEST
DTSTART:20270328T010000
END:DAYLIGHT
BEGIN:STANDARD
TZOFFSETFROM:+0200
TZOFFSETTO:+0100
TZNAME:CET
DTSTART:20271031T010000
END:STANDARD
END:VTIMEZONE
BEGIN:VEVENT
DTSTART;VALUE=DATE:20260131
DTEND;VALUE=DATE:20260202
DTSTAMP:20260419T232619
CREATED:20260110T163840Z
LAST-MODIFIED:20260110T163840Z
UID:4554-1769817600-1769990399@www.gruppidilettura.it
SUMMARY:Festival del fumetto a Novegro
DESCRIPTION:Un fantastico tuffo nel mondo della fantasia\, un grande salone del fumetto che due volte all’anno ospita le più importanti realtà che gravitano attorno al pianeta della cultura pop.\n\nLa manifestazione è dedicata agli appassionati di fumetti\, ai giochi di ruolo e da tavolo e al mondo cosplay.\nDurante l’evento sarà possibile partecipare a: workshop sul fumetto\, role game\, eventi a tema e tornei di videogame.\n\nIl tutto con numerosi espositori specializzati in fumetti\, manga\, anime\, videogame\, figure\, abiti e costumi per cosplay\, card e gadget.\n\nSe ami l’universo nerd non puoi perderti queste due giornate: ti aspetta un fine settimana ricco di tornei\, dimostrazioni\, animazione e tantissime altre attività.\n\nScopri il programma completo.
URL:https://www.gruppidilettura.it/event/festival-del-fumetto-a-novegro/
LOCATION:Milano
CATEGORIES:Festival,Fiera
ATTACH;FMTTYPE=image/jpeg:https://www.gruppidilettura.it/wp-content/uploads/2026/01/fumetto_05.jpg
END:VEVENT
END:VCALENDAR