BEGIN:VCALENDAR
VERSION:2.0
PRODID:-//www.gruppidilettura.it - ECPv6.15.20//NONSGML v1.0//EN
CALSCALE:GREGORIAN
METHOD:PUBLISH
X-ORIGINAL-URL:https://www.gruppidilettura.it
X-WR-CALDESC:Eventi per www.gruppidilettura.it
REFRESH-INTERVAL;VALUE=DURATION:PT1H
X-Robots-Tag:noindex
X-PUBLISHED-TTL:PT1H
BEGIN:VTIMEZONE
TZID:Europe/Rome
BEGIN:DAYLIGHT
TZOFFSETFROM:+0100
TZOFFSETTO:+0200
TZNAME:CEST
DTSTART:20220327T010000
END:DAYLIGHT
BEGIN:STANDARD
TZOFFSETFROM:+0200
TZOFFSETTO:+0100
TZNAME:CET
DTSTART:20221030T010000
END:STANDARD
BEGIN:DAYLIGHT
TZOFFSETFROM:+0100
TZOFFSETTO:+0200
TZNAME:CEST
DTSTART:20230326T010000
END:DAYLIGHT
BEGIN:STANDARD
TZOFFSETFROM:+0200
TZOFFSETTO:+0100
TZNAME:CET
DTSTART:20231029T010000
END:STANDARD
BEGIN:DAYLIGHT
TZOFFSETFROM:+0100
TZOFFSETTO:+0200
TZNAME:CEST
DTSTART:20240331T010000
END:DAYLIGHT
BEGIN:STANDARD
TZOFFSETFROM:+0200
TZOFFSETTO:+0100
TZNAME:CET
DTSTART:20241027T010000
END:STANDARD
END:VTIMEZONE
BEGIN:VEVENT
DTSTART;VALUE=DATE:20231006
DTEND;VALUE=DATE:20231009
DTSTAMP:20260420T021011
CREATED:20231001T175754Z
LAST-MODIFIED:20231001T175754Z
UID:1761-1696550400-1696809599@www.gruppidilettura.it
SUMMARY:Festival del Giornalismo Culturale
DESCRIPTION:LEGGERE PER [ *]\nIl futuro del giornalismo nell’era degli schermi\n\n\n\nLeggere un libro è stata l’azione che per secoli ha definito la trasmissione del sapere. Hegel sosteneva che la lettura del giornale era la preghiera mattutina dell’uomo moderno.\nFino a pochi anni fa in altre parole ci si formava e informava attraverso la pagina scritta. Le immagini ovviamente c’erano\, ma erano strumenti secondari. Oggi tutto si è ribaltato: è l’era degli schermi\, tra smartphone\, tablet\, pc\, smart tv. Si legge sempre di più su uno schermo\, la formazione e l’informazione passano soprattutto attraverso le immagini. I giovani intercettano le notizie maggiormente su Instagram e tik tok che su un quotidiano tradizionale. E i libri sempre più spesso li leggono “con le orecchie” attraverso un podcast. L’11ma edizione del Festival del giornalismo culturale di Urbino mette al centro questa rivoluzione. Si partirà da una ricerca originale sulla lettura per poi avanzare una serie di quesiti decisivi per la costruzione di un’opinione pubblica informata e dotata di spirito critico: dove e come leggiamo le notizie culturali? Cosa cambia se non si legge più su carta ma su schermo? Quanto tempo si passa su video informativi e cosa si deposita rispetto alla lettura tradizionale? Dove e come si informano i giovani e con quali conseguenze per la loro formazione? Cosa leggono e su quali supporti i giornalisti\, i mediatori\, cioè coloro che fanno informazione e in particolare informazione culturale? Dal 6 all’8 ottobre 2023\, nella consueta cornice del Palazzo Ducale di Urbino\, giornalisti\, studiosi\, scrittori si confronteranno su questi temi e interrogativi\, e non mancheranno\, come nelle passate edizioni\, spettacoli\, concorsi\, letture pubbliche\, in un rapporto sempre più stretto fra pubblico e territorio.
URL:https://www.gruppidilettura.it/event/festival-del-giornalismo-culturale/
LOCATION:Palazzo Ducale di Urbino\, Urbino
CATEGORIES:Festival
ATTACH;FMTTYPE=image/png:https://www.gruppidilettura.it/wp-content/uploads/2023/10/FGCULT_logo.png
END:VEVENT
BEGIN:VEVENT
DTSTART;VALUE=DATE:20231006
DTEND;VALUE=DATE:20231009
DTSTAMP:20260420T021011
CREATED:20231001T144008Z
LAST-MODIFIED:20231001T144008Z
UID:1717-1696550400-1696809599@www.gruppidilettura.it
SUMMARY:Book Pride
DESCRIPTION:Dal 6 all’8 di ottobre si riconferma a Genova l’appuntamento con la quinta edizione di Book Pride\, la fiera nazionale dell’editoria indipendente italiana in programma a Palazzo Ducale.
URL:https://www.gruppidilettura.it/event/book-pride/
LOCATION:Palazzo Ducale\, Genova
CATEGORIES:Festival
ATTACH;FMTTYPE=image/jpeg:https://www.gruppidilettura.it/wp-content/uploads/2023/10/Book-pride-23.jpeg
END:VEVENT
BEGIN:VEVENT
DTSTART;VALUE=DATE:20231005
DTEND;VALUE=DATE:20231215
DTSTAMP:20260420T021011
CREATED:20231001T143543Z
LAST-MODIFIED:20231001T143557Z
UID:1713-1696464000-1702598399@www.gruppidilettura.it
SUMMARY:Strane Coppie
DESCRIPTION:“Scrivere dal Mondo: donne\, visioni\, guerra” è il tema della quindicesima edizione di Strane Coppie\, festival che si sviluppa in un ciclo di incontri\, dal 5 ottobre al 14 dicembre\, e che si terrà a Napoli\, nella prestigiosa sede del MUSAP – Museo Artistico Politecnico di Napoli\, con il primo evento a Palazzo Reale e il secondo a Milano al Banco BPM nella Sala delle Colonne. \nAll’edizione di quest’anno prenderanno parte prestigiose protagoniste e importanti esponenti del mondo della cultura come Antonio Franchini\, Giuseppe Montesano\, Marta Morazzoni\, Anna Toscano\, Igiaba Scego\, Titti Marrone\, Valeria Viganò\, Giuliana Misserville\, José Vicente Quirante Rives\, Maristella Lippolis\, Sandra Petrignani\, Alberto Rollo\, Laura Bosio\, coordinati nei loro incontri da Antonella Cilento.
URL:https://www.gruppidilettura.it/event/1713/
LOCATION:Palazzo Reale\, Piazza del Plebiscito\, 1\, Napoli\, 80132
CATEGORIES:Festival
ATTACH;FMTTYPE=image/png:https://www.gruppidilettura.it/wp-content/uploads/2023/10/Strane-coppie-23.png
END:VEVENT
BEGIN:VEVENT
DTSTART;VALUE=DATE:20231005
DTEND;VALUE=DATE:20231009
DTSTAMP:20260420T021011
CREATED:20231005T075404Z
LAST-MODIFIED:20231005T075404Z
UID:1822-1696464000-1696809599@www.gruppidilettura.it
SUMMARY:Romics
DESCRIPTION:Una straordinaria avventura attende tutti i visitatori della XXXI edizione di Romics\, che si terrà dal 5 all’8 ottobre presso Fiera Roma. Siamo pronti a combattere al fianco di Kal-El per proteggere la città e a goderci uno dei più grandi eventi attesi del mondo dei fumetti e dell’intrattenimento.
URL:https://www.gruppidilettura.it/event/romics/
LOCATION:Fiera Roma\, Roma
CATEGORIES:Festival
ATTACH;FMTTYPE=image/png:https://www.gruppidilettura.it/wp-content/uploads/2023/10/Romics-logo.png
END:VEVENT
BEGIN:VEVENT
DTSTART;VALUE=DATE:20231005
DTEND;VALUE=DATE:20231009
DTSTAMP:20260420T021011
CREATED:20231001T145410Z
LAST-MODIFIED:20231001T145526Z
UID:1727-1696464000-1696809599@www.gruppidilettura.it
SUMMARY:Pianeta Terra Festival
DESCRIPTION:Dal 5 all’8 ottobre torna\, alla seconda edizione\, Pianeta Terra Festival\, la manifestazione diretta da Stefano Mancuso\, si terrà a Lucca\, in alcuni dei luoghi più suggestivi della città\, come la Chiesa di San Francesco\, Palazzo Ducale\, L’Orto Botanico e l’Auditorium del Suffragio. Durante le quattro giornate di festival\, numerosi saranno gli incontri\, i dialoghi\, le lezioni e gli spettacoli con ospiti italiani e internazionali. Scienziati\, antropologi\, filosofi\, economisti\, storici\, scrittori\, artisti e innovatori rifletteranno sul tema generale scelto per questa edizione: La rete della vita. \n  \n 
URL:https://www.gruppidilettura.it/event/pianeta-terra-festival/
LOCATION:Lucca\, Lucca
CATEGORIES:Festival
ATTACH;FMTTYPE=image/png:https://www.gruppidilettura.it/wp-content/uploads/2023/10/Pianeta-Terra-Festival-5-8-Ottobre-2023-Lucca.png
END:VEVENT
BEGIN:VEVENT
DTSTART;VALUE=DATE:20231005
DTEND;VALUE=DATE:20231009
DTSTAMP:20260420T021011
CREATED:20231001T143005Z
LAST-MODIFIED:20231001T143005Z
UID:1708-1696464000-1696809599@www.gruppidilettura.it
SUMMARY:Campania Libri Festival
DESCRIPTION:Dal 5 all’8 ottobre torna Campania Libri Festival\, giunto alla sua seconda edizione. Una manifestazione dedicata al mondo del libro e dell’editoria. \nOltre 200 appuntamenti a Palazzo Reale di Napoli tra presentazioni\, laboratori e incontri con autori\, ospiti e professionisti del mondo dell’editoria\, che insieme agli stand delle principali case editrici nazionali popoleranno gli ambienti della reggia: dal seicentesco Cortile d’onore alle sale storiche.  
URL:https://www.gruppidilettura.it/event/campania-libri-festival/
LOCATION:Palazzo Reale\, Piazza del Plebiscito\, 1\, Napoli\, 80132
CATEGORIES:Festival
ATTACH;FMTTYPE=image/jpeg:https://www.gruppidilettura.it/wp-content/uploads/2023/10/Campania-Libri-Festival.jpg
END:VEVENT
BEGIN:VEVENT
DTSTART;VALUE=DATE:20230929
DTEND;VALUE=DATE:20231002
DTSTAMP:20260420T021011
CREATED:20231001T142505Z
LAST-MODIFIED:20231001T142505Z
UID:1704-1695945600-1696204799@www.gruppidilettura.it
SUMMARY:Internazionale a Ferrara
DESCRIPTION:Un weekend con i giornalisti di tutto il mondo\nCon incontri\, presentazioni\, proiezioni\, mostre e workshop.\n\nIl festival di giornalismo è organizzato in collaborazione con il comune di Ferrara\, Arci Ferrara e Associazione IF.\nTutti gli incontri sono gratuiti\, gli spazi sono privi di barriere architettoniche e raggiungibili a piedi o in bicicletta.
URL:https://www.gruppidilettura.it/event/internazionale-a-ferrara/
LOCATION:Ferrara
CATEGORIES:Festival
ATTACH;FMTTYPE=image/png:https://www.gruppidilettura.it/wp-content/uploads/2023/10/ferrara_2023_festival.png
END:VEVENT
BEGIN:VEVENT
DTSTART;VALUE=DATE:20230923
DTEND;VALUE=DATE:20231203
DTSTAMP:20260420T021011
CREATED:20231005T074916Z
LAST-MODIFIED:20231005T091138Z
UID:1820-1695427200-1701561599@www.gruppidilettura.it
SUMMARY:Festival delle Storie - dammi un libro che apre le porte. 3ª edizione
DESCRIPTION:BRIANZABIBLIOTECHE organizza la terza edizione del Festival delle Storie. Dammi un libro che apre le porte. L’appuntamento\, ormai atteso dalla comunità\, è ospitato dal 23 settembre al 2 dicembre 2023 in tutte le 34 biblioteche della rete. Letture\, laboratori\, recital con musica dal vivo\, spettacoli\, conferenze\, visite guidate compongono il fitto calendario di attività gratuite dedicate a bambini\, ragazzi e adulti. \n \nIl filo conduttore del Festival di quest’anno è il nostro futuro\, come scritto nelle pagine dell’Agenda 2030 per lo sviluppo sostenibile. Ogni appuntamento\, pensato a partire da uno dei 17 Obiettivi dell’Agenda\, è un’occasione per riflettere sulla sostenibilità ambientale\, sociale ed economica che dobbiamo alla Terra e ai suoi abitanti. La rassegna intende rispondere\, con tutto il suo pubblico\, alla chiamata alla Responsabilità dell’Agenda 2030 e si fa interlocutrice di un’importante domanda: come possiamo stare bene sul nostro Pianeta? Proveremo a dare insieme una risposta a partire dalle cinque “P” dello sviluppo sostenibile\, ovvero i cinque concetti chiave su cui costruire un modello capace di offrire crescita\, benessere\, protezione degli esseri umani e dell’ambiente a lungo termine: Persone\, Prosperità\, Pace\, Partnership\, Pianeta. \nTutti gli eventi sono gratuiti\, ma è obbligatoria la prenotazione. È possibile prenotare i singoli eventi da dieci giorni prima rispetto alla data dell’evento utilizzando l’app C’è Posto o contattando le biblioteche.
URL:https://www.gruppidilettura.it/event/festival-delle-storie-dammi-un-libro-che-apre-le-porte-3a-edizione/
CATEGORIES:Festival
ATTACH;FMTTYPE=image/png:https://www.gruppidilettura.it/wp-content/uploads/2023/10/festival-delle-storie-piccolo.png
END:VEVENT
BEGIN:VEVENT
DTSTART;VALUE=DATE:20230921
DTEND;VALUE=DATE:20230925
DTSTAMP:20260420T021011
CREATED:20231001T080232Z
LAST-MODIFIED:20231001T080232Z
UID:1694-1695254400-1695599999@www.gruppidilettura.it
SUMMARY:Festival del Pensare Contemporaneo
DESCRIPTION:Il Festival del Pensare Contemporaneo vuole essere una piattaforma per il pensiero critico con la quale ispirare un futuro più consapevole di ciò che possiamo essere e realizzare. Un ambiente di dialogo e di scambio di idee tra esperienze e conoscenze diverse\, per sviluppare insieme un pensiero profondo e dunque informato\, ricco perché plurale\, sempre libero\, ostinatamente lungimirante.
URL:https://www.gruppidilettura.it/event/festival-del-pensare-contemporaneo/
LOCATION:Piacenza\, Piacenza
CATEGORIES:Festival
ATTACH;FMTTYPE=image/png:https://www.gruppidilettura.it/wp-content/uploads/2023/10/Festival-del-pensare-contemporaneo-Piacenza.png
END:VEVENT
BEGIN:VEVENT
DTSTART;VALUE=DATE:20230916
DTEND;VALUE=DATE:20230918
DTSTAMP:20260420T021011
CREATED:20231001T075309Z
LAST-MODIFIED:20231001T075309Z
UID:1690-1694822400-1694995199@www.gruppidilettura.it
SUMMARY:2084
DESCRIPTION:Sabato 16 e domenica 17 settembre all’EastRiver di Milano è in programma la seconda edizione di 2084\, festival ideato e organizzato dalla Scuola di scrittura Belleville.
URL:https://www.gruppidilettura.it/event/2084/
LOCATION:EastRiver\, Via Jean Jaurès 22\, Milano
CATEGORIES:Festival
ATTACH;FMTTYPE=image/png:https://www.gruppidilettura.it/wp-content/uploads/2023/10/2084-Le-cose-da-salvare-Milano.png
END:VEVENT
BEGIN:VEVENT
DTSTART;VALUE=DATE:20230915
DTEND;VALUE=DATE:20230918
DTSTAMP:20260420T021011
CREATED:20231001T074009Z
LAST-MODIFIED:20231001T074009Z
UID:1682-1694736000-1694995199@www.gruppidilettura.it
SUMMARY:Asculum Festival
DESCRIPTION:Venerdì 15\, sabato 16 e domenica 17 settembre\, ad Ascoli Piceno\, si terrà la terza edizione di Asculum Festival\, un appuntamento all’insegna della psicologia\, dell’equilibrio personale e del benessere interiore.
URL:https://www.gruppidilettura.it/event/asculum-festival/
LOCATION:Ascoli Piceno\, Ascoli Piceno
CATEGORIES:Festival
ATTACH;FMTTYPE=image/png:https://www.gruppidilettura.it/wp-content/uploads/2023/10/Asculum-Festival-logo.png
END:VEVENT
BEGIN:VEVENT
DTSTART;VALUE=DATE:20230915
DTEND;VALUE=DATE:20230918
DTSTAMP:20260420T021011
CREATED:20231001T073634Z
LAST-MODIFIED:20231001T073634Z
UID:1678-1694736000-1694995199@www.gruppidilettura.it
SUMMARY:Termini Book Festival
DESCRIPTION:Dal 15 al 17 settembre\, a Termini Imerese (PA)\, presso la Terrazza al Belvedere\, Cortile Maltese\, torna il Termini Book Festival.
URL:https://www.gruppidilettura.it/event/termini-book-festival/
LOCATION:Termini Imerese\, Via Iannelli\, Termini Imerese
CATEGORIES:Festival
ATTACH;FMTTYPE=image/jpeg:https://www.gruppidilettura.it/wp-content/uploads/2023/10/Termini-book-festival.jpg
END:VEVENT
BEGIN:VEVENT
DTSTART;VALUE=DATE:20230915
DTEND;VALUE=DATE:20230918
DTSTAMP:20260420T021011
CREATED:20231001T073242Z
LAST-MODIFIED:20231001T073242Z
UID:1674-1694736000-1694995199@www.gruppidilettura.it
SUMMARY:SuperCali Festival
DESCRIPTION:A Vigevano torna il SuperCali Festival\, dal 15 al 17 settembre il Castello Sforzesco ospiterà una tre giorni di eventi e panel dedicati all’incontro tra letteratura e arte cinematografica.
URL:https://www.gruppidilettura.it/event/supercali-festival/
LOCATION:Castello Sforzesco\, Vigevano
CATEGORIES:Festival
ATTACH;FMTTYPE=image/png:https://www.gruppidilettura.it/wp-content/uploads/2023/10/SuperCali.png
END:VEVENT
BEGIN:VEVENT
DTSTART;VALUE=DATE:20230915
DTEND;VALUE=DATE:20230918
DTSTAMP:20260420T021011
CREATED:20231001T072701Z
LAST-MODIFIED:20231001T072900Z
UID:1668-1694736000-1694995199@www.gruppidilettura.it
SUMMARY:Scarabocchi
DESCRIPTION:Scarabocchi. Il mio primo festival\nA Novara\, dal 15 al 17 settembre\, in programma la sesta edizione di Scarabocchi. Il mio primo festival\, quest’anno dedicata al “Guardare\, immaginare\, ricordare”. \nIl festival è dedicato a a Italo Calvino\, nel centenario della nascita.
URL:https://www.gruppidilettura.it/event/scarabocchi/
LOCATION:Complesso del Broletto\, via Fratelli Rosselli\, 20\, Novara\, 28100
CATEGORIES:Festival
ATTACH;FMTTYPE=image/png:https://www.gruppidilettura.it/wp-content/uploads/2023/10/Scarabocchi.png
END:VEVENT
BEGIN:VEVENT
DTSTART;VALUE=DATE:20230913
DTEND;VALUE=DATE:20230918
DTSTAMP:20260420T021011
CREATED:20231001T071823Z
LAST-MODIFIED:20231001T071823Z
UID:1664-1694563200-1694995199@www.gruppidilettura.it
SUMMARY:Pordenonelegge
DESCRIPTION:Pordenonelegge\nDal 13 al 17 settembre torna Pordenonelegge – Festa del libro e degli autori\, il festival letterario organizzato dalla Fondazione Pordenonelegge e giunto quest’anno alla 24esima edizione.
URL:https://www.gruppidilettura.it/event/pordenonelegge/
LOCATION:Pordenone\, Pordenone
CATEGORIES:Festival
ATTACH;FMTTYPE=image/png:https://www.gruppidilettura.it/wp-content/uploads/2023/10/Logo-Pordenonelegge.png
END:VEVENT
BEGIN:VEVENT
DTSTART;VALUE=DATE:20230907
DTEND;VALUE=DATE:20230911
DTSTAMP:20260420T021011
CREATED:20231001T070857Z
LAST-MODIFIED:20231001T070857Z
UID:1655-1694044800-1694390399@www.gruppidilettura.it
SUMMARY:Festival della Comunicazione
DESCRIPTION:Dal 7 al 10 settembre\, a Camogli\, la nuova edizione del Festival della Comunicazione\, quest’anno dedicato al tema della memoria. \n\n \nLa memoria è una straordinaria attitudine della mente\, del corpo e dello spirito\, tanto potente quanto misteriosa\, parte integrante del nostro io e strumento indispensabile per costruire la nostra identità di uomini e di popoli. \nÈ innanzitutto la capacità di mantenere traccia di informazioni\, immagini\, sensazioni\, idee\, ricordi di eventi di cui si è fatta esperienza; è la capacità di rievocarli nel tempo\, di riconoscerli come stati di coscienza.
URL:https://www.gruppidilettura.it/event/festival-della-comunicazione/
LOCATION:Camogli
CATEGORIES:Festival
ATTACH;FMTTYPE=image/png:https://www.gruppidilettura.it/wp-content/uploads/2023/10/Screenshot-2023-10-01-at-09-06-23-FESTIVAL-2023-FESTIVAL-della-COMUNICAZIONE-CAMOGLI.png
END:VEVENT
BEGIN:VEVENT
DTSTART;VALUE=DATE:20230906
DTEND;VALUE=DATE:20230911
DTSTAMP:20260420T021011
CREATED:20230821T121446Z
LAST-MODIFIED:20230821T121446Z
UID:1484-1693958400-1694390399@www.gruppidilettura.it
SUMMARY:Festivaletteratura
DESCRIPTION:La 26esima edizione del Festivaletteratura si terrà da mercoledì 6 a domenica 10 settembre.\nCinque giorni di incontri con autori\, reading\, percorsi guidati\, spettacoli\, concerti con artisti provenienti da tutto il mondo\, che ha luogo a Mantova. \nProgramma su Festivaletteratura.it/it
URL:https://www.gruppidilettura.it/event/festivaletteratura/
LOCATION:Manova\, Mantova\, Italia
CATEGORIES:Festival
ATTACH;FMTTYPE=image/png:https://www.gruppidilettura.it/wp-content/uploads/2023/08/festivaletteratura.png
END:VEVENT
BEGIN:VEVENT
DTSTART;VALUE=DATE:20230905
DTEND;VALUE=DATE:20230917
DTSTAMP:20260420T021011
CREATED:20231001T065930Z
LAST-MODIFIED:20231001T071912Z
UID:1651-1693872000-1694908799@www.gruppidilettura.it
SUMMARY:Pavese Festival 2023
DESCRIPTION:Pavese Festival 2023  da martedì 5 a sabato 16 settembre. \nIl Pavese Festival 2023 vuole così essere un invito a riattivare un dialogo intimo e fuori dal tempo con il nostro io. E a farlo ricercando nella nostra memoria il momento iniziatico in cui abbiamo incontrato il nostro campo di granoturco\, quel dio che per il protagonista del racconto è stata un’epifania\, un fatto sacro nel percorso di crescita e formazione dell’uomo. \n\n\nAlla
URL:https://www.gruppidilettura.it/event/pavese-festival-2023/
LOCATION:FONDAZIONE CESARE PAVESE\, Piazza Luigi Ciriotti\, 1 \, Santo Stefano Belbo (CN)\, 12058
CATEGORIES:Festival
ATTACH;FMTTYPE=image/png:https://www.gruppidilettura.it/wp-content/uploads/2023/10/logo-fondazionecesarepavese.png
END:VEVENT
BEGIN:VEVENT
DTSTART;VALUE=DATE:20230903
DTEND;VALUE=DATE:20230904
DTSTAMP:20260420T021011
CREATED:20230821T115900Z
LAST-MODIFIED:20230821T115900Z
UID:1476-1693699200-1693785599@www.gruppidilettura.it
SUMMARY:FLIP: il Festival della Letteratura Indipendente
DESCRIPTION:Il Flip – Festival della Letteratura Indipendente di Pomigliano d’Arco torna dal primo al 3 settembre 2023: un festival dedicato al mondo della lettura e dell’editoria \ndirezione artistica: Eduardo Savarese\norganizzatori: la libreria Wojtek\, la libreria per l’infanzia Mio nonno è Michelangelo e il blog letterario Una banda di cefali \nappuntamenti mattutini dedicati alla letteratura per bambini e ragazzi; incontri pomeridiani\, invece\, si rivolgeranno a un pubblico più adulto\, con presentazioni di libri\, incontri con gli autori e tavole rotonde pensate per interrogarsi sul mondo del libro\, le sessioni a tema. L \nLa parola in-dipendenza\, infatti\, sarà scomposta molte volte nelle sue due parti: per generare nuove consapevolezze intorno a questo termine tanto impegnativo quanto ambiguo\, il Flip 2023 si articolerà in sessioni IN e sessioni DIPENDENZE\, in cui si osserverà ciò che è dentro e ciò che di-pende nei discorsi editoriali e letterari. \nTanti gli ospiti\, sia nazionali che internazionali\, attesi in questa edizione. Tra le prime anticipazioni spiccano i nomi dello scrittore romeno pluripremiato Mircea Cărtărescu\, la scrittrice cilena Cynthia Rimsky\, l’italiano Giorgio Vasta; il pittore e illustratore cinese Chen Jiang Hong e il premio Andersen Bruno Tognolini. \nOgni incontro sarà gratuito e ad accesso libero. \nLe installazioni artistiche saranno ancora una volta affidate al francese Christophe Mourey.
URL:https://www.gruppidilettura.it/event/flip-il-festival-della-letteratura-indipendente/
LOCATION:Pomigliano d’Arco\, Pomigliano d’Arco\, Italia
CATEGORIES:Festival
ATTACH;FMTTYPE=image/png:https://www.gruppidilettura.it/wp-content/uploads/2023/08/Flip-2023.png
END:VEVENT
BEGIN:VEVENT
DTSTART;VALUE=DATE:20230902
DTEND;VALUE=DATE:20230904
DTSTAMP:20260420T021011
CREATED:20230821T120857Z
LAST-MODIFIED:20230821T120857Z
UID:1480-1693612800-1693785599@www.gruppidilettura.it
SUMMARY:Writing Solidarity
DESCRIPTION:Italia\, Germania\, Svezia e Inghilterra: quattro Nazionali Scrittori che si sfideranno per Writing Solidarity\, in programma a Roma il 2 e 3 settembre. L’evento – organizzato da Come si scrive una grande storia\, la scuola di scrittura e sceneggiatura di Francesco Trento – è volto a sostenere il progetto di Nawal Soufi\, l’attivista italo marocchina che ha dedicato il suo impegno a rifugiati\, profughi e richiedenti asilo.
URL:https://www.gruppidilettura.it/event/writing-solidarity/
LOCATION:Roma
CATEGORIES:Festival
ATTACH;FMTTYPE=image/png:https://www.gruppidilettura.it/wp-content/uploads/2023/08/writing-solidarity-2023.png
END:VEVENT
BEGIN:VEVENT
DTSTART;VALUE=DATE:20230901
DTEND;VALUE=DATE:20230904
DTSTAMP:20260420T021011
CREATED:20230820T150852Z
LAST-MODIFIED:20230820T150852Z
UID:1472-1693526400-1693785599@www.gruppidilettura.it
SUMMARY:Storie in cammino
DESCRIPTION:Dall’1 al 3 settembre\, nel comune fiorentino di Firenzuola\, si terrà Storie in cammino\, festival organizzato dall’associazione culturale qualcunoconcuicorrere che prevederà 20 eventi\, con autori per ragazzi italiani e stranieri. Le specificità dell’evento sono due: legare il mondo delle storie a quello delle camminate nei boschi del paese e quello di prevedere i gruppi di lettura 11-14 anni come destinatari privilegiati. \nStorie in cammino è un progetto di qualcunoconcuicorrere in collaborazione con le principali istituzioni di Firenzuola (Firenze). È un mini-festival che unisce due passioni: quella per le storie e quella per il cammino\, nella splendida cornice dell’Alto Mugello. Chiediamo agli autori di mettersi in gioco e camminare con noi\, per portare le loro storie in angoli magici del nostro Appennino: una volta raggiunta la destinazione\, si terrà una conversazione guidata dai ragazzi. Chiediamo agli autori di rimanere con noi per tutto il weekend e di partecipare l’uno alla camminata dell’altro\, sabato pomeriggio e domenica mattina. Durante la serata del sabato\, poi\, si svolgono eventi a carattere più ludico\, sempre con la partecipazione degli autori.
URL:https://www.gruppidilettura.it/event/storie-in-cammino/
LOCATION:Fiorenzuola\, Firenzuola\, Italia
CATEGORIES:Festival
ATTACH;FMTTYPE=image/jpeg:https://www.gruppidilettura.it/wp-content/uploads/2023/08/STORIEINCAMMINO-2023.jpg
END:VEVENT
BEGIN:VEVENT
DTSTART;VALUE=DATE:20230901
DTEND;VALUE=DATE:20230904
DTSTAMP:20260420T021011
CREATED:20230820T142908Z
LAST-MODIFIED:20230820T142908Z
UID:1464-1693526400-1693785599@www.gruppidilettura.it
SUMMARY:Festival della Mente
DESCRIPTION:Torna dall’1 al 3 settembre il Festival della Mente\, la rassegna dedicata alla creatività e alla nascita delle idee. Si svolge a Sarzana con la direzione di Benedetta Marietti\, promosso dalla Fondazione Carispezia e dal Comune di Sarzana. Il programma e i biglietti saranno disponibili dalla metà di luglio\, per altre informazioni consultare Festivaldellamente.it
URL:https://www.gruppidilettura.it/event/festival-della-mente/
LOCATION:Sarzana\, Sarzana\, Italia
CATEGORIES:Festival
ATTACH;FMTTYPE=image/jpeg:https://www.gruppidilettura.it/wp-content/uploads/2023/08/festivaldellamente.jpg
END:VEVENT
BEGIN:VEVENT
DTSTART;VALUE=DATE:20230901
DTEND;VALUE=DATE:20230904
DTSTAMP:20260420T021011
CREATED:20230820T145244Z
LAST-MODIFIED:20230820T151037Z
UID:1468-1693526400-1693785599@www.gruppidilettura.it
SUMMARY:#fuoriluogo\, Festival letterario della città di Biella
DESCRIPTION:Torna dall’1 al 3 settembre #fuoriluogo\, Festival letterario della città di Biella giunto quest’anno alla sua nona edizione. \n54 eventi\, più di 90 ospiti provenienti da tutta Italia. E altri 10 eventi di #fuoriluogo Kids & Young. \nProgramma su fuoriluogobiella.it
URL:https://www.gruppidilettura.it/event/fuoriluogo-festival-letterario-della-citta-di-biella/
LOCATION:Biella\, Biella\, Italia
CATEGORIES:Festival
ATTACH;FMTTYPE=image/jpeg:https://www.gruppidilettura.it/wp-content/uploads/2023/08/Fuoriluogo-Biella.jpg
END:VEVENT
END:VCALENDAR