BEGIN:VCALENDAR
VERSION:2.0
PRODID:-//www.gruppidilettura.it - ECPv6.15.20//NONSGML v1.0//EN
CALSCALE:GREGORIAN
METHOD:PUBLISH
X-ORIGINAL-URL:https://www.gruppidilettura.it
X-WR-CALDESC:Eventi per www.gruppidilettura.it
REFRESH-INTERVAL;VALUE=DURATION:PT1H
X-Robots-Tag:noindex
X-PUBLISHED-TTL:PT1H
BEGIN:VTIMEZONE
TZID:Europe/Rome
BEGIN:DAYLIGHT
TZOFFSETFROM:+0100
TZOFFSETTO:+0200
TZNAME:CEST
DTSTART:20240331T010000
END:DAYLIGHT
BEGIN:STANDARD
TZOFFSETFROM:+0200
TZOFFSETTO:+0100
TZNAME:CET
DTSTART:20241027T010000
END:STANDARD
BEGIN:DAYLIGHT
TZOFFSETFROM:+0100
TZOFFSETTO:+0200
TZNAME:CEST
DTSTART:20250330T010000
END:DAYLIGHT
BEGIN:STANDARD
TZOFFSETFROM:+0200
TZOFFSETTO:+0100
TZNAME:CET
DTSTART:20251026T010000
END:STANDARD
BEGIN:DAYLIGHT
TZOFFSETFROM:+0100
TZOFFSETTO:+0200
TZNAME:CEST
DTSTART:20260329T010000
END:DAYLIGHT
BEGIN:STANDARD
TZOFFSETFROM:+0200
TZOFFSETTO:+0100
TZNAME:CET
DTSTART:20261025T010000
END:STANDARD
BEGIN:DAYLIGHT
TZOFFSETFROM:+0100
TZOFFSETTO:+0200
TZNAME:CEST
DTSTART:20270328T010000
END:DAYLIGHT
BEGIN:STANDARD
TZOFFSETFROM:+0200
TZOFFSETTO:+0100
TZNAME:CET
DTSTART:20271031T010000
END:STANDARD
END:VTIMEZONE
BEGIN:VEVENT
DTSTART;VALUE=DATE:20251206
DTEND;VALUE=DATE:20260331
DTSTAMP:20260419T234755
CREATED:20260110T162514Z
LAST-MODIFIED:20260110T164045Z
UID:4546-1764979200-1774915199@www.gruppidilettura.it
SUMMARY:Una montagna di libri
DESCRIPTION:È caduta la neve sulle Dolomiti. La stagione invernale è qui! E a Cortina d’Ampezzo ecco la 33ª Edizione di Una Montagna di Libri. Da dicembre a marzo\, su un arco di quattro mesi\, ci incontriamo con scrittrici e scrittori da tutto il mondo. Nelle sale dell’Alexander Girardi Hall\, del Palazzo delle Poste\, del Grand Hotel Savoia. Dal 2009\, nella cornice unica della valle d’Ampezzo. \nIl programma dell’inverno 2025/26 è online. Lo puoi consultare qui.
URL:https://www.gruppidilettura.it/event/una-montagna-di-libri/
LOCATION:Cortina d’Ampezzo\, Italy
CATEGORIES:Festival
ATTACH;FMTTYPE=image/webp:https://www.gruppidilettura.it/wp-content/uploads/2026/01/LogoUMdL.webp
END:VEVENT
BEGIN:VEVENT
DTSTART;VALUE=DATE:20260131
DTEND;VALUE=DATE:20260915
DTSTAMP:20260419T234755
CREATED:20260128T101904Z
LAST-MODIFIED:20260128T102050Z
UID:4616-1769817600-1789430399@www.gruppidilettura.it
SUMMARY:Cervo in blu d'inchiostro
DESCRIPTION:Il 31 gennaio inizia la 14esima edizione del Festival Letterario Cervo in blu d’inchiostro\, quest’anno dal titolo Al femminile. Storie di donne\, storie di parole. Fino a novembre\, Cervo (Imperia) e il Castello di Perno a Monforte d’Alba ospiteranno 23 incontri\, tra gli ospiti Tiziana Ferrario\, Piera Levi-Montalcini\, Carlo Lucarelli\, Massimo Recalcati\, Marta Stella e Nadia Terranova. “Il progetto si sviluppa attraverso un percorso interdisciplinare che attraversa il Novecento e il presente\, muovendo dal mito di Medea fino alla contemporaneità\, con un filo conduttore rappresentato dalla figura e dall’eredità culturale di Natalia Ginzburg”. Informazioni sul sito.
URL:https://www.gruppidilettura.it/event/cervo-in-blu-dinchiostro/
LOCATION:Cervo (IM)
CATEGORIES:Festival
ATTACH;FMTTYPE=image/jpeg:https://www.gruppidilettura.it/wp-content/uploads/2026/01/Cervo-in-Blu-dInchiostro_2026-1024x576-1.jpg
END:VEVENT
BEGIN:VEVENT
DTSTART;VALUE=DATE:20260220
DTEND;VALUE=DATE:20260323
DTSTAMP:20260419T234755
CREATED:20260128T113338Z
LAST-MODIFIED:20260128T113338Z
UID:4631-1771545600-1774223999@www.gruppidilettura.it
SUMMARY:Learning More Festival
DESCRIPTION:Modena\, dal 20 al 22 febbraio ospiterà la nuova edizione del “primo festival italiano interamente dedicato a come impariamo e a come la formazione sta cambiando nell’era dell’intelligenza artificiale“. Durante il Learning More Festival ci saranno talk\, workshop e panel su tecnologia e società\, sull’uso consapevole dell’IA e sullo sviluppo dei media digitali. Maggiori info su www.learningmorefestival.it.
URL:https://www.gruppidilettura.it/event/learning-more-festival/
LOCATION:Modena
CATEGORIES:Festival
ATTACH;FMTTYPE=image/png:https://www.gruppidilettura.it/wp-content/uploads/2026/01/learning-more.png
END:VEVENT
BEGIN:VEVENT
DTSTART;VALUE=DATE:20260314
DTEND;VALUE=DATE:20260322
DTSTAMP:20260419T234755
CREATED:20260225T094637Z
LAST-MODIFIED:20260225T095536Z
UID:4697-1773446400-1774137599@www.gruppidilettura.it
SUMMARY:Dedica Festival
DESCRIPTION:Dal 14 al 21 marzo\, a Pordenone\, la 32esima edizione di Dedica Festival\, che quest’anno ha per protagonista lo scrittore francese Sorj Chalandon\, pubblicato in Italia da Guanda. \nProgramma e aggiornamenti sul sito.
URL:https://www.gruppidilettura.it/event/dedica-festival/
LOCATION:Pordenone\, Pordenone
CATEGORIES:Festival
ATTACH;FMTTYPE=image/jpeg:https://www.gruppidilettura.it/wp-content/uploads/2026/02/dedica-festival.jpg
END:VEVENT
END:VCALENDAR