BEGIN:VCALENDAR
VERSION:2.0
PRODID:-//www.gruppidilettura.it - ECPv6.15.20//NONSGML v1.0//EN
CALSCALE:GREGORIAN
METHOD:PUBLISH
X-ORIGINAL-URL:https://www.gruppidilettura.it
X-WR-CALDESC:Eventi per www.gruppidilettura.it
REFRESH-INTERVAL;VALUE=DURATION:PT1H
X-Robots-Tag:noindex
X-PUBLISHED-TTL:PT1H
BEGIN:VTIMEZONE
TZID:Europe/Rome
BEGIN:DAYLIGHT
TZOFFSETFROM:+0100
TZOFFSETTO:+0200
TZNAME:CEST
DTSTART:20240331T010000
END:DAYLIGHT
BEGIN:STANDARD
TZOFFSETFROM:+0200
TZOFFSETTO:+0100
TZNAME:CET
DTSTART:20241027T010000
END:STANDARD
BEGIN:DAYLIGHT
TZOFFSETFROM:+0100
TZOFFSETTO:+0200
TZNAME:CEST
DTSTART:20250330T010000
END:DAYLIGHT
BEGIN:STANDARD
TZOFFSETFROM:+0200
TZOFFSETTO:+0100
TZNAME:CET
DTSTART:20251026T010000
END:STANDARD
BEGIN:DAYLIGHT
TZOFFSETFROM:+0100
TZOFFSETTO:+0200
TZNAME:CEST
DTSTART:20260329T010000
END:DAYLIGHT
BEGIN:STANDARD
TZOFFSETFROM:+0200
TZOFFSETTO:+0100
TZNAME:CET
DTSTART:20261025T010000
END:STANDARD
END:VTIMEZONE
BEGIN:VEVENT
DTSTART;VALUE=DATE:20251125
DTEND;VALUE=DATE:20251201
DTSTAMP:20260420T040400
CREATED:20251128T100459Z
LAST-MODIFIED:20251128T100459Z
UID:4472-1764028800-1764547199@www.gruppidilettura.it
SUMMARY:Le Storie Infinite
DESCRIPTION:Tresigallo è nota come “Città Metafisica” per la sua architettura razionalista detta anche “metafisica costruita”; si presta quindi a sviluppare sia il tema del doppio in senso lato\, sia la dimensione storica/distopica. Tresigallo è due anime in una: Storia e Architettura\, Austerità e Leggerezza\, Realtà; passeggiando tra le sue vie ci si sente un po’ come Bastiano ne “La Storia Infinita”\, a cavallo di due mondi\, con infinite possibilità narrative\, come Le Storie Infinite di questo nostro Festival della Letteratura che\, proprio come Bastiano\, darà nuova vita e infinite possibilità ai nostri sogni. \nQuando: dal 25/11/2025 al 30/11/2025. \nChiunque ami leggere non può non sognare un divano\, un caminetto acceso e una cioccolata calda come location perfetta per godersi un buon libro… o per iniziare a pensare di regalarne uno per Natale. \nDove: nella magia delle luminarie natalizie\, nei luoghi simbolo di Tresigallo\, per immergersi nell’atmosfera più fantastica e impalpabile dell’anno. \nCosa: gli appuntamenti sono molteplici e diffusi nei diversi luoghi simbolo del paese. \nScopri il programma.
URL:https://www.gruppidilettura.it/event/le-storie-infinite/
LOCATION:Tresigallo\, Piazza Italia 26\, Tresignana\, 44039\, Italy
CATEGORIES:Festival
ATTACH;FMTTYPE=image/png:https://www.gruppidilettura.it/wp-content/uploads/2025/11/proloco-tresigallo.png
END:VEVENT
END:VCALENDAR