BEGIN:VCALENDAR
VERSION:2.0
PRODID:-//www.gruppidilettura.it - ECPv6.15.20//NONSGML v1.0//EN
CALSCALE:GREGORIAN
METHOD:PUBLISH
X-WR-CALNAME:www.gruppidilettura.it
X-ORIGINAL-URL:https://www.gruppidilettura.it
X-WR-CALDESC:Eventi per www.gruppidilettura.it
REFRESH-INTERVAL;VALUE=DURATION:PT1H
X-Robots-Tag:noindex
X-PUBLISHED-TTL:PT1H
BEGIN:VTIMEZONE
TZID:Europe/Rome
BEGIN:DAYLIGHT
TZOFFSETFROM:+0100
TZOFFSETTO:+0200
TZNAME:CEST
DTSTART:20240331T010000
END:DAYLIGHT
BEGIN:STANDARD
TZOFFSETFROM:+0200
TZOFFSETTO:+0100
TZNAME:CET
DTSTART:20241027T010000
END:STANDARD
BEGIN:DAYLIGHT
TZOFFSETFROM:+0100
TZOFFSETTO:+0200
TZNAME:CEST
DTSTART:20250330T010000
END:DAYLIGHT
BEGIN:STANDARD
TZOFFSETFROM:+0200
TZOFFSETTO:+0100
TZNAME:CET
DTSTART:20251026T010000
END:STANDARD
BEGIN:DAYLIGHT
TZOFFSETFROM:+0100
TZOFFSETTO:+0200
TZNAME:CEST
DTSTART:20260329T010000
END:DAYLIGHT
BEGIN:STANDARD
TZOFFSETFROM:+0200
TZOFFSETTO:+0100
TZNAME:CET
DTSTART:20261025T010000
END:STANDARD
BEGIN:DAYLIGHT
TZOFFSETFROM:+0100
TZOFFSETTO:+0200
TZNAME:CEST
DTSTART:20270328T010000
END:DAYLIGHT
BEGIN:STANDARD
TZOFFSETFROM:+0200
TZOFFSETTO:+0100
TZNAME:CET
DTSTART:20271031T010000
END:STANDARD
END:VTIMEZONE
BEGIN:VEVENT
DTSTART;VALUE=DATE:20251206
DTEND;VALUE=DATE:20260331
DTSTAMP:20260419T184528
CREATED:20260110T162514Z
LAST-MODIFIED:20260110T164045Z
UID:4546-1764979200-1774915199@www.gruppidilettura.it
SUMMARY:Una montagna di libri
DESCRIPTION:È caduta la neve sulle Dolomiti. La stagione invernale è qui! E a Cortina d’Ampezzo ecco la 33ª Edizione di Una Montagna di Libri. Da dicembre a marzo\, su un arco di quattro mesi\, ci incontriamo con scrittrici e scrittori da tutto il mondo. Nelle sale dell’Alexander Girardi Hall\, del Palazzo delle Poste\, del Grand Hotel Savoia. Dal 2009\, nella cornice unica della valle d’Ampezzo. \nIl programma dell’inverno 2025/26 è online. Lo puoi consultare qui.
URL:https://www.gruppidilettura.it/event/una-montagna-di-libri/
LOCATION:Cortina d’Ampezzo\, Italy
CATEGORIES:Festival
ATTACH;FMTTYPE=image/webp:https://www.gruppidilettura.it/wp-content/uploads/2026/01/LogoUMdL.webp
END:VEVENT
BEGIN:VEVENT
DTSTART;VALUE=DATE:20260115
DTEND;VALUE=DATE:20260325
DTSTAMP:20260419T184528
CREATED:20260225T113449Z
LAST-MODIFIED:20260225T114226Z
UID:4716-1768435200-1774396799@www.gruppidilettura.it
SUMMARY:Premio Inge Feltrinelli – Raccontare il mondo\, difendere i diritti
DESCRIPTION:Sono state annunciate le cinquine finaliste della quarta edizione del Premio Inge Feltrinelli – Raccontare il mondo\, difendere i diritti\, il riconoscimento internazionale\, nato nel solco dell’eredità di Inge Schönthal Feltrinelli\, “dedicato a valorizzare donne e nuove generazioni impegnate a dar voce a storie di diritti negati\, discriminazione e resistenza”. \nI titoli in concorso sono compresi nelle categorie  “Libri di fiction e non fiction”\, “Libri Kids”\, “Inchieste e Reportage” e “Podcast” (quest’ultima rivolta alle idee progettuali delle scuole secondarie di secondo grado provenienti da tutta Italia). \nLe vincitrici delle quattro cinquine\, individuate dalla giuria internazionale\, saranno proclamate il 24 marzo 2026 durante la serata conclusiva ospitata nella sede della Fondazione Giangiacomo Feltrinelli\, in Viale Pasubio 5 a Milano. \nDal 15 gennaio all’8 marzo\, lettrici e lettori possono esprimere sul sito del Premio Inge Feltrinelli la propria preferenza per assegnare la menzione speciale della categoria Libri di fiction e non fiction e per votare il proprio vincitore della categoria Libri Kids.
URL:https://www.gruppidilettura.it/event/cerimonia-conclusiva-del-premio-inge-feltrinelli-raccontare-il-mondo-difendere-i-diritti/
LOCATION:Fondazione Giangiacomo Feltinelli\, Milano
CATEGORIES:Premio letterario
ATTACH;FMTTYPE=image/webp:https://www.gruppidilettura.it/wp-content/uploads/2026/02/Premio-Inge-Feltrinelli.jpg.webp
END:VEVENT
BEGIN:VEVENT
DTSTART;VALUE=DATE:20260115
DTEND;VALUE=DATE:20260327
DTSTAMP:20260419T184528
CREATED:20260128T094518Z
LAST-MODIFIED:20260128T094518Z
UID:4605-1768435200-1774569599@www.gruppidilettura.it
SUMMARY:Libri in scena
DESCRIPTION:A gennaio prende avvio la prima rassegna letteraria di Libraccio\, Libri in scena: una serie di incontri che\, fino a marzo\, porteranno scrittori e scrittrici a teatro. Gli eventi si svolgeranno in due sedi\, presso il Teatro Manzoni di Monza e presso il Teatro di Corte della Villa Reale di Monza. Tra i partecipanti (seguendo l’ordine degli appuntamenti): Donato Carrisi\, Vito Mancuso\, Nicola Gardini\, Alice Basso\, Nicola Magrin ed Elena Varvello. La manifestazione è patrocinata dal Comune di Monza\, con la collaborazione del Gruppo Editoriale Mauri Spagnol\, del Consorzio Villa Reale\, Parco di Monza e Scuola Borsa. Info e programma qui.
URL:https://www.gruppidilettura.it/event/libri-in-scena/
LOCATION:Monza
CATEGORIES:Rassegna letteraria
ATTACH;FMTTYPE=image/webp:https://www.gruppidilettura.it/wp-content/uploads/2026/01/Libri-in-scena-logo.jpg.webp
END:VEVENT
BEGIN:VEVENT
DTSTART;VALUE=DATE:20260131
DTEND;VALUE=DATE:20260915
DTSTAMP:20260419T184528
CREATED:20260128T101904Z
LAST-MODIFIED:20260128T102050Z
UID:4616-1769817600-1789430399@www.gruppidilettura.it
SUMMARY:Cervo in blu d'inchiostro
DESCRIPTION:Il 31 gennaio inizia la 14esima edizione del Festival Letterario Cervo in blu d’inchiostro\, quest’anno dal titolo Al femminile. Storie di donne\, storie di parole. Fino a novembre\, Cervo (Imperia) e il Castello di Perno a Monforte d’Alba ospiteranno 23 incontri\, tra gli ospiti Tiziana Ferrario\, Piera Levi-Montalcini\, Carlo Lucarelli\, Massimo Recalcati\, Marta Stella e Nadia Terranova. “Il progetto si sviluppa attraverso un percorso interdisciplinare che attraversa il Novecento e il presente\, muovendo dal mito di Medea fino alla contemporaneità\, con un filo conduttore rappresentato dalla figura e dall’eredità culturale di Natalia Ginzburg”. Informazioni sul sito.
URL:https://www.gruppidilettura.it/event/cervo-in-blu-dinchiostro/
LOCATION:Cervo (IM)
CATEGORIES:Festival
ATTACH;FMTTYPE=image/jpeg:https://www.gruppidilettura.it/wp-content/uploads/2026/01/Cervo-in-Blu-dInchiostro_2026-1024x576-1.jpg
END:VEVENT
BEGIN:VEVENT
DTSTART;VALUE=DATE:20260213
DTEND;VALUE=DATE:20260316
DTSTAMP:20260419T184528
CREATED:20260128T113911Z
LAST-MODIFIED:20260128T113911Z
UID:4635-1770940800-1773619199@www.gruppidilettura.it
SUMMARY:FILE - Festival della Letteratura Italiana in Grecia
DESCRIPTION:Dal 13 al 15 febbraio si terrà la prima edizione del Festival della Letteratura Italiana in Grecia. Presso l’Istituto Italiano di Cultura di Atene andrà in scena una tre-giorni dedicata alla letteratura italiana con ospiti come Niccolò Ammaniti\, Pierdomenico Baccalario\, Marta Barone\, Matteo B. Bianchi\, Donato Carrisi\, Paolo Giordano\, Antonella Lattanzi\, Melania Mazzucco e Carlo Vecce. Scopri di più.
URL:https://www.gruppidilettura.it/event/file-festival-della-letteratura-italiana-in-grecia/
LOCATION:Atene
CATEGORIES:Festival
ATTACH;FMTTYPE=image/png:https://www.gruppidilettura.it/wp-content/uploads/2026/01/file.png
END:VEVENT
BEGIN:VEVENT
DTSTART;VALUE=DATE:20260220
DTEND;VALUE=DATE:20260323
DTSTAMP:20260419T184528
CREATED:20260128T113338Z
LAST-MODIFIED:20260128T113338Z
UID:4631-1771545600-1774223999@www.gruppidilettura.it
SUMMARY:Learning More Festival
DESCRIPTION:Modena\, dal 20 al 22 febbraio ospiterà la nuova edizione del “primo festival italiano interamente dedicato a come impariamo e a come la formazione sta cambiando nell’era dell’intelligenza artificiale“. Durante il Learning More Festival ci saranno talk\, workshop e panel su tecnologia e società\, sull’uso consapevole dell’IA e sullo sviluppo dei media digitali. Maggiori info su www.learningmorefestival.it.
URL:https://www.gruppidilettura.it/event/learning-more-festival/
LOCATION:Modena
CATEGORIES:Festival
ATTACH;FMTTYPE=image/png:https://www.gruppidilettura.it/wp-content/uploads/2026/01/learning-more.png
END:VEVENT
BEGIN:VEVENT
DTSTART;VALUE=DATE:20260224
DTEND;VALUE=DATE:20260501
DTSTAMP:20260419T184528
CREATED:20260225T084438Z
LAST-MODIFIED:20260225T094806Z
UID:4691-1771891200-1777593599@www.gruppidilettura.it
SUMMARY:Vuoi fare parte della Giuria dei Lettori della XI Edizione del «Premio Fondazione Megamark – Incontri di Dialoghi»?
DESCRIPTION:La Giuria dei Lettori\, denominata a partire da questa edizione “La corte dei lettori”\, sarà composta da 40 lettori individuali e da 5 circoli di lettori e/o gruppi di lettura che dalla pubblicazione del bando e fino al 30 aprile si candideranno compilando il modulo alla pagina https://fondazionemegamark.it/giuria-dei-lettori/ \n“La corte dei lettori” dovrà essere formata da persone che abbiano compiuto la maggiore età; questa giuria legge i cinque romanzi finalisti selezionati dalla Giuria degli esperti e li valuta tutti (con un voto da 0 a 10). \n“La corte dei lettori” si forma in seguito a un’autocandidatura degli interessati e solo le prime 40 persone e i primi 5 gruppi di lettura (o circoli di lettori) entreranno a far parte di questa seconda commissione giudicatrice che resta anonima.\nAi 40 lettori individuali e ai 5 gruppi di lettura viene affidata la lettura della sola cinquina dei finalisti. Questa giuria – votando tutte e cinque le opere finaliste – decreta il vincitore del concorso.
URL:https://www.gruppidilettura.it/event/candidati-per-far-parte-della-giuria-dei-lettori-della-xi-edizione-del-premio-fondazione-megamark-incontri-di-dialoghi/
LOCATION:Andria
CATEGORIES:Premio letterario
ATTACH;FMTTYPE=image/jpeg:https://www.gruppidilettura.it/wp-content/uploads/2026/02/1281x427.jpg
END:VEVENT
BEGIN:VEVENT
DTSTART;VALUE=DATE:20260224
DTEND;VALUE=DATE:20260602
DTSTAMP:20260419T184528
CREATED:20260224T180754Z
LAST-MODIFIED:20260224T180754Z
UID:4685-1771891200-1780358399@www.gruppidilettura.it
SUMMARY:Premio Fondazione Megamark – Incontri di Dialoghi
DESCRIPTION:Al via una nuova edizione del “Premio Fondazione Megamark – Incontri di Dialoghi”\, il concorso letterario aperto alle case editrici di tutta Italia e riservato alle opere prime di narrativa italiana.\nAll’edizione 2026\, le case editrici potranno presentare esordi di narrativa italiana pubblicati per la prima volta nel periodo compreso tra gennaio 2025 e maggio 2026. Scadenza 1 giugno 2026: Scarica e leggi il regolamento \nDa oggi è possibile candidarsi anche per la giuria dei lettori\, scadenza il 30 aprile. Trovi qui tutte le informazioni: https://fondazionemegamark.it/giuria-dei-lettori
URL:https://www.gruppidilettura.it/event/premio-fondazione-megamark-incontri-di-dialoghi/
LOCATION:Andria
CATEGORIES:Premio letterario
ATTACH;FMTTYPE=image/jpeg:https://www.gruppidilettura.it/wp-content/uploads/2026/02/1281x427.jpg
END:VEVENT
BEGIN:VEVENT
DTSTART;VALUE=DATE:20260227
DTEND;VALUE=DATE:20260516
DTSTAMP:20260419T184528
CREATED:20260128T114735Z
LAST-MODIFIED:20260128T114735Z
UID:4643-1772150400-1778889599@www.gruppidilettura.it
SUMMARY:Visite guidate nei libri
DESCRIPTION:Dal 27 febbraio al 15 maggio\, a Treviso\, si terrà Visite guidate nei libri: non “un festival letterario nel senso classico ma degli incontri con voci affascinanti della cultura italiana”. Dopo il successo dell’edizione 2025 anche quest’anno sono diversi i volti noti che parteciperanno\, presto svelati sul sito della manifestazione ideata e diretta da Laura Pegorer.
URL:https://www.gruppidilettura.it/event/visite-guidate-nei-libri/
LOCATION:Treviso
CATEGORIES:Rassegna letteraria
ATTACH;FMTTYPE=image/png:https://www.gruppidilettura.it/wp-content/uploads/2026/01/visite-guidate-nei-libri.png
END:VEVENT
END:VCALENDAR